BEGIN:VCALENDAR
VERSION:2.0
PRODID:-//bfame.co.uk - ECPv6.15.12.2//NONSGML v1.0//EN
CALSCALE:GREGORIAN
METHOD:PUBLISH
X-WR-CALNAME:bfame.co.uk
X-ORIGINAL-URL:https://bfame.co.uk
X-WR-CALDESC:Events for bfame.co.uk
REFRESH-INTERVAL;VALUE=DURATION:PT1H
X-Robots-Tag:noindex
X-PUBLISHED-TTL:PT1H
BEGIN:VTIMEZONE
TZID:Europe/London
BEGIN:DAYLIGHT
TZOFFSETFROM:+0000
TZOFFSETTO:+0100
TZNAME:BST
DTSTART:20250330T010000
END:DAYLIGHT
BEGIN:STANDARD
TZOFFSETFROM:+0100
TZOFFSETTO:+0000
TZNAME:GMT
DTSTART:20251026T010000
END:STANDARD
BEGIN:DAYLIGHT
TZOFFSETFROM:+0000
TZOFFSETTO:+0100
TZNAME:BST
DTSTART:20260329T010000
END:DAYLIGHT
BEGIN:STANDARD
TZOFFSETFROM:+0100
TZOFFSETTO:+0000
TZNAME:GMT
DTSTART:20261025T010000
END:STANDARD
BEGIN:DAYLIGHT
TZOFFSETFROM:+0000
TZOFFSETTO:+0100
TZNAME:BST
DTSTART:20270328T010000
END:DAYLIGHT
BEGIN:STANDARD
TZOFFSETFROM:+0100
TZOFFSETTO:+0000
TZNAME:GMT
DTSTART:20271031T010000
END:STANDARD
END:VTIMEZONE
BEGIN:VEVENT
DTSTART;TZID=Europe/London:20260416T193000
DTEND;TZID=Europe/London:20260425T220000
DTSTAMP:20260421T105726
CREATED:20250728T083349Z
LAST-MODIFIED:20250728T083833Z
UID:1781-1776367800-1777154400@bfame.co.uk
SUMMARY:Lucky Me – The Fellowship Players
DESCRIPTION:16th – 25th April 2026 Directed by Dom Holmes \n  \nIn this romantic comedy Sara’s having a bad week. Really bad! The light bulbs in her apartment keep burning out; there’s a leak in the roof; the aquarium is full of dead fish; the cat’s gone AWOL\, and her father (who chased off her last boyfriend) is suspicious of Tom\, their new neighbour\, a TSA agent who just brought Sara home from the emergency room on New Year’s Eve. \nContains themes of loss and dementia \nTICKETS: £12 \nBOX OFFICE: 07721 334 203
URL:https://bfame.co.uk/index.php/event/lucky-me/
LOCATION:The Grange Playhouse – Walsall\, Broadway North\, Walsall\, WS1 2QB\, United Kingdom
CATEGORIES:Fellowship Players
ATTACH;FMTTYPE=image/jpeg:https://bfame.co.uk/wp-content/uploads/2025/07/thumbnail_luckyme-artwork-scaled.jpg
END:VEVENT
BEGIN:VEVENT
DTSTART;TZID=Europe/London:20260421T193000
DTEND;TZID=Europe/London:20260502T220000
DTSTAMP:20260421T105726
CREATED:20260122T121128Z
LAST-MODIFIED:20260122T121128Z
UID:2040-1776799800-1777759200@bfame.co.uk
SUMMARY:Glorious! The True Story of Florence Foster Jenkins - Highbury Players
DESCRIPTION:by Peter Quilter \nUntrained singer conquers Carnegie \n21 April @ 7:30 pm – 2 May @ 7:30 pm\n\nDirected by Ken Agnew \n\nBased on the true story of an American socialite who became infamous for her highly unskilled singing. Carnegie beckons … she believes. She is determined\, delusional\, and has an unshakable faith in her own talents. \n\nSuitability: 14+ \n  \nTicket Via :-  https://www.ticketsource.co.uk/whats-on/sutton-coldfield/highbury-theatre-centre/glorious-the-true-story-of-florence-foster-jenkins/e-qdrpdd \n 
URL:https://bfame.co.uk/index.php/event/glorious-the-true-story-of-florence-foster-jenkins-highbury-players/
LOCATION:Highbury Theatre\, Sheffield Rd\, Wylde Green\, Sutton Coldfield B73 5HD\, Birmingham\, B73 5HD\, United Kingdom
CATEGORIES:Highbury Theatre
ATTACH;FMTTYPE=image/png:https://bfame.co.uk/wp-content/uploads/2026/01/7-Glorious.png
END:VEVENT
END:VCALENDAR