BEGIN:VCALENDAR
VERSION:2.0
PRODID:-//bfame.co.uk - ECPv6.15.12.2//NONSGML v1.0//EN
CALSCALE:GREGORIAN
METHOD:PUBLISH
X-ORIGINAL-URL:https://bfame.co.uk
X-WR-CALDESC:Events for bfame.co.uk
REFRESH-INTERVAL;VALUE=DURATION:PT1H
X-Robots-Tag:noindex
X-PUBLISHED-TTL:PT1H
BEGIN:VTIMEZONE
TZID:Europe/London
BEGIN:DAYLIGHT
TZOFFSETFROM:+0000
TZOFFSETTO:+0100
TZNAME:BST
DTSTART:20240331T010000
END:DAYLIGHT
BEGIN:STANDARD
TZOFFSETFROM:+0100
TZOFFSETTO:+0000
TZNAME:GMT
DTSTART:20241027T010000
END:STANDARD
BEGIN:DAYLIGHT
TZOFFSETFROM:+0000
TZOFFSETTO:+0100
TZNAME:BST
DTSTART:20250330T010000
END:DAYLIGHT
BEGIN:STANDARD
TZOFFSETFROM:+0100
TZOFFSETTO:+0000
TZNAME:GMT
DTSTART:20251026T010000
END:STANDARD
BEGIN:DAYLIGHT
TZOFFSETFROM:+0000
TZOFFSETTO:+0100
TZNAME:BST
DTSTART:20260329T010000
END:DAYLIGHT
BEGIN:STANDARD
TZOFFSETFROM:+0100
TZOFFSETTO:+0000
TZNAME:GMT
DTSTART:20261025T010000
END:STANDARD
END:VTIMEZONE
BEGIN:VEVENT
DTSTART;TZID=Europe/London:20251125T193000
DTEND;TZID=Europe/London:20251129T220000
DTSTAMP:20260422T105234
CREATED:20250929T094114Z
LAST-MODIFIED:20250929T094114Z
UID:1864-1764099000-1764453600@bfame.co.uk
SUMMARY:Calendar Girls The Musical - BMOS
DESCRIPTION:Tuesday 25th – Saturday 29th November 2025 at the Crescent Theatre\, Birmingham\n\n\n\n\n\n\n\n\n\n\n\n\nA Musical by Gary Barlow and Tim FirthOriginally Produced by David Pugh & Dafydd Rogers and The Shubert OrganisationBased on the play CALENDAR GIRLS written by Tim Firth and on the motion picture CALENDAR GIRLS written by Tim Firth and Juliette \n\n\n\n\n\n\n\n\n\n\n\n\nYou can expect plenty will be revealed in November as we present Calendar Girls The Musical at the Crescent Theatre\, Birmingham. \n\n\n\n\nTICKETS ON SALE NOW
URL:https://bfame.co.uk/index.php/event/calendar-girls-the-musical-bmos/
LOCATION:Crescent Theatre\, Birmingham\, B16 8AE
CATEGORIES:BMOS
ATTACH;FMTTYPE=image/jpeg:https://bfame.co.uk/wp-content/uploads/2025/09/Calendar-Girls.jpg
END:VEVENT
BEGIN:VEVENT
DTSTART;TZID=Europe/London:20250610T193000
DTEND;TZID=Europe/London:20250614T220000
DTSTAMP:20260422T105234
CREATED:20250529T085502Z
LAST-MODIFIED:20250529T085502Z
UID:1495-1749583800-1749938400@bfame.co.uk
SUMMARY:Les Misérables – Let the People Sing - BMOS
DESCRIPTION:Tuesday 10th – Saturday 14th June 2025 at the Alexandra Theatre\, Birmingham \nBy special arrangement with CAMERON MACKINTOSH & MUSIC THEATRE INTERNATIONAL \nLet The People Sing! is a UK-wide amateur theatre project celebrating the 40th anniversary of the worldwide phenomenon\, Les Misérables. The project will see 11 community-wide productions of Les Misérables mounted across the UK\, with performances at The Alexandra Birmingham showcasing the best of amateur theatre in the Midlands. \nBMOS presents Les Misérables “Let the People Sing”\nSeen by over 130m people in 53 countries and 22 different languages\, and based on the acclaimed novel by Victor Hugo\, Les Misérables features one of theatre’s greatest scores. Filled with evocative and emotional songs which have stood the test of time\, including I Dreamed a Dream\, On My Own\, Bring Him Home\, One Day More\, Master Of The House and more. \nSet against the backdrop of 19th century France\, Les Misérables is a dramatic masterpiece of love\, war\, redemption and conflict. A true testament to the survival of the human spirit\, the story of Jean Valjean and his quest for redemption has secured the place of Les Misérables as the world’s favourite musical. \nEpic and uplifting\, Les Misérables packs an emotional punch that has thrilled audiences all over the world and continues to hold the title of the West-End’s longest running musical. \n  \n\nTue – Sat at 19:30\n\n\nFri and Sat at 14:30\n\n  \nOrder Your Tickets Here
URL:https://bfame.co.uk/index.php/event/les-miserables-let-the-people-sing-bmos/
LOCATION:BMOS\, Alexandra Theatre\, Birmingham\, B5 4DS
CATEGORIES:BMOS
ATTACH;FMTTYPE=image/webp:https://bfame.co.uk/wp-content/uploads/2025/05/LetThePeopleSing_Title_1920x1080.webp
END:VEVENT
END:VCALENDAR