BEGIN:VCALENDAR
VERSION:2.0
PRODID:-//bfame.co.uk - ECPv6.15.12.2//NONSGML v1.0//EN
CALSCALE:GREGORIAN
METHOD:PUBLISH
X-ORIGINAL-URL:https://bfame.co.uk
X-WR-CALDESC:Events for bfame.co.uk
REFRESH-INTERVAL;VALUE=DURATION:PT1H
X-Robots-Tag:noindex
X-PUBLISHED-TTL:PT1H
BEGIN:VTIMEZONE
TZID:Europe/London
BEGIN:DAYLIGHT
TZOFFSETFROM:+0000
TZOFFSETTO:+0100
TZNAME:BST
DTSTART:20250330T010000
END:DAYLIGHT
BEGIN:STANDARD
TZOFFSETFROM:+0100
TZOFFSETTO:+0000
TZNAME:GMT
DTSTART:20251026T010000
END:STANDARD
BEGIN:DAYLIGHT
TZOFFSETFROM:+0000
TZOFFSETTO:+0100
TZNAME:BST
DTSTART:20260329T010000
END:DAYLIGHT
BEGIN:STANDARD
TZOFFSETFROM:+0100
TZOFFSETTO:+0000
TZNAME:GMT
DTSTART:20261025T010000
END:STANDARD
BEGIN:DAYLIGHT
TZOFFSETFROM:+0000
TZOFFSETTO:+0100
TZNAME:BST
DTSTART:20270328T010000
END:DAYLIGHT
BEGIN:STANDARD
TZOFFSETFROM:+0100
TZOFFSETTO:+0000
TZNAME:GMT
DTSTART:20271031T010000
END:STANDARD
END:VTIMEZONE
BEGIN:VEVENT
DTSTART;TZID=Europe/London:20260609T193000
DTEND;TZID=Europe/London:20260613T220000
DTSTAMP:20260422T093631
CREATED:20260205T152443Z
LAST-MODIFIED:20260205T152443Z
UID:2106-1781033400-1781388000@bfame.co.uk
SUMMARY:We Will Rock You - Bmos
DESCRIPTION:Music and lyrics by QUEEN\nStory and Script by BEN ELTON\n“WE WILL ROCK YOU” is presented through special arrangement with and all authorised performance materials are supplied by Theatrical Rights Worldwide (TRW).\nwww.theatricalrights.co.uk \n\n\n\n\n\n\n\n\n\n\n\n\nBMOS Musical Theatre Company proudly presents the ultimate rock musical experience – a night of unforgettable music\, rebellion\, and pure energy in We Will Rock You! \nWe Will Rock You is a bold\, high-energy tribute to the legendary music of Queen\, featuring over 20 of their biggest hits\, including “Bohemian Rhapsody”\, “We Are the Champions”\, “Somebody to Love”\, “Don’t Stop Me Now”\, and the iconic “We Will Rock You”. \nSet in a dystopian future\, where free thought is forbidden and music is controlled by algorithms\, two young rebels\, Galileo and Scaramouche\, rise up with a group of Bohemians. Together they vow to to bring back the spirit of rock ‘n’ roll with a fight that becomes a rallying cry for uniqueness\, freedom\, and the unstoppable power of music. \nWe Will Rock You is more than just a musical – it’s a worldwide phenomenon. With productions in 28 countries\, it has rocked the lives of over 16 million audience members across the globe. This explosive spectacle promises to have Birmingham audiences stomping their feet and raising their voices in this unforgettable smash-hit Queen musical. \n\n\n\n\n\n\n\nTuesday 9th – Saturday 13th June 2026 at The Alexandra\, Birmingham \n\n\n\n\n\n\n\n\n\n\n\n\n  \n\n\n\n\n\n\n\n\n\n\n\n\n\n\n\n\n\nTICKETS ON SALE NOW
URL:https://bfame.co.uk/index.php/event/we-will-rock-you-bmos/
LOCATION:BMOS\, Alexandra Theatre\, Birmingham\, B5 4DS
CATEGORIES:BMOS
ATTACH;FMTTYPE=image/webp:https://bfame.co.uk/wp-content/uploads/2026/02/wewillrockyou_1920x1080.webp
END:VEVENT
END:VCALENDAR