BEGIN:VCALENDAR
VERSION:2.0
PRODID:-//bfame.co.uk - ECPv6.15.12.2//NONSGML v1.0//EN
CALSCALE:GREGORIAN
METHOD:PUBLISH
X-WR-CALNAME:bfame.co.uk
X-ORIGINAL-URL:https://bfame.co.uk
X-WR-CALDESC:Events for bfame.co.uk
REFRESH-INTERVAL;VALUE=DURATION:PT1H
X-Robots-Tag:noindex
X-PUBLISHED-TTL:PT1H
BEGIN:VTIMEZONE
TZID:Europe/London
BEGIN:DAYLIGHT
TZOFFSETFROM:+0000
TZOFFSETTO:+0100
TZNAME:BST
DTSTART:20240331T010000
END:DAYLIGHT
BEGIN:STANDARD
TZOFFSETFROM:+0100
TZOFFSETTO:+0000
TZNAME:GMT
DTSTART:20241027T010000
END:STANDARD
BEGIN:DAYLIGHT
TZOFFSETFROM:+0000
TZOFFSETTO:+0100
TZNAME:BST
DTSTART:20250330T010000
END:DAYLIGHT
BEGIN:STANDARD
TZOFFSETFROM:+0100
TZOFFSETTO:+0000
TZNAME:GMT
DTSTART:20251026T010000
END:STANDARD
BEGIN:DAYLIGHT
TZOFFSETFROM:+0000
TZOFFSETTO:+0100
TZNAME:BST
DTSTART:20260329T010000
END:DAYLIGHT
BEGIN:STANDARD
TZOFFSETFROM:+0100
TZOFFSETTO:+0000
TZNAME:GMT
DTSTART:20261025T010000
END:STANDARD
BEGIN:DAYLIGHT
TZOFFSETFROM:+0000
TZOFFSETTO:+0100
TZNAME:BST
DTSTART:20270328T010000
END:DAYLIGHT
BEGIN:STANDARD
TZOFFSETFROM:+0100
TZOFFSETTO:+0000
TZNAME:GMT
DTSTART:20271031T010000
END:STANDARD
END:VTIMEZONE
BEGIN:VEVENT
DTSTART;TZID=Europe/London:20260212T193000
DTEND;TZID=Europe/London:20260221T220000
DTSTAMP:20260422T111128
CREATED:20250728T082903Z
LAST-MODIFIED:20250728T083822Z
UID:1779-1770924600-1771711200@bfame.co.uk
SUMMARY:How to be Happy – The Fellowship Players
DESCRIPTION:  \n12th – 21st  February 2026 Directed by Dave Mills\n\n\n“How to be Happy” by David Lewis – A Light-Hearted Look at Life’s Big Questions \nEver tried to improve your life by fixing everyone else’s? In this clever and quirky comedy\, cynical TV producer Mark ditches his career to become a self-help guru—despite not having a clue how to help himself. With ex-wives\, clients\, and secrets piling up\, Mark’s pursuit of happiness becomes anything but straightforward. \nWarm\, witty\, and wonderfully human\, How to be Happy is a feel-good play about love\, lies\, and the messy business of self-improvement. Expect laughter\, awkward honesty\, and a surprising dose of hope. \n\n\nVisit our online box office at https://www.ticketsource.co.uk/fellowship-players.
URL:https://bfame.co.uk/index.php/event/how-to-be-happy/
LOCATION:The Grange Playhouse – Walsall\, Broadway North\, Walsall\, WS1 2QB\, United Kingdom
CATEGORIES:Fellowship Players
ATTACH;FMTTYPE=image/jpeg:https://bfame.co.uk/wp-content/uploads/2025/07/thumbnail_how-to-be-happy-artwork-scaled.jpg
END:VEVENT
BEGIN:VEVENT
DTSTART;TZID=Europe/London:20251009T193000
DTEND;TZID=Europe/London:20251018T220000
DTSTAMP:20260422T111128
CREATED:20250624T091254Z
LAST-MODIFIED:20250624T091324Z
UID:1716-1760038200-1760824800@bfame.co.uk
SUMMARY:Spirit Level - The Fellowship Players
DESCRIPTION:  \nby Pam Valentine \nWhen famous crime writer Jack Cameron and his wife Susie drown in a boating accident\, they are refused entry into heaven – Jack is a card-carrying atheist – so they return to haunt the country cottage where they lived. Life is dull. Their only pleasure comes from spooking the estate agent and frightening away any would-be tenants. Things change when Susie persuades Jack to allow a young couple\, Simon\, an aspiring crime writer\, and Flic\, his pregnant wife\, to move in. Inevitably Susie and Jack become drawn into their lives\, and whilst Simon has writer’s block\, Marcia\, Flic’s monstrous mother\, is doing her best to separate them.\nWith no hope of success\, Suzie calls up her Guardian Angel who\, when she arrives\, is not the angelic figure one would expect. She tells Jack he can help Simon write his book but by an unorthodox method which causes moments of utter confusion. Christmas arrives\, so does a snowstorm\, and so does the baby. Then comes a moment of crisis and Jack finds himself doing something that no card-carrying atheist would ever admit to. But will it help . . . ? \nVENUE: The Grange Playhouse\, Broadway North\, Walsall \nTICKETS: £12 \nBOX OFFICE: 07721 334 203
URL:https://bfame.co.uk/index.php/event/spirit-level/
LOCATION:The Grange Playhouse – Walsall\, Broadway North\, Walsall\, WS1 2QB\, United Kingdom
CATEGORIES:Fellowship Players
ATTACH;FMTTYPE=image/webp:https://bfame.co.uk/wp-content/uploads/2025/06/thumbnail_spirit_level-artwork.webp
END:VEVENT
BEGIN:VEVENT
DTSTART;VALUE=DATE:20250619
DTEND;VALUE=DATE:20250629
DTSTAMP:20260422T111128
CREATED:20250506T130403Z
LAST-MODIFIED:20250506T132233Z
UID:1193-1750291200-1751155199@bfame.co.uk
SUMMARY:ABSENT FRIENDS - Fellowship Players
DESCRIPTION:by Alan Ayckbourn   (A DRAMATIC COMEDY) \nIn an effort to comfort Colin after the death of his fiancée\, his friends arrange a consolatory tea party for him. Understandably they are on edge wondering what they are going to say to him\, but by the time Colin arrives\, the tense atmosphere contrasts dramatically with his air of cheerful relaxation. It appears that he is the only happy one among them! \nTrigger warning (for those who need it): This play contains themes of loss and grief. \nVENUE: The Grange Playhouse\, Broadway North\, Walsall \nTICKETS: £12 \nBOX OFFICE: 07721 334 203 \n  \nWe hope you’ll join us at the Grange Playhouse for another enjoyable evening of theatre. \nThe Fellowship Players are members of the National Operatic & Dramatic Association (NODA) and Birmingham Theatre Guild \nVisit our online box office at https://www.ticketsource.co.uk/fellowship-players. \nPlease note that all performances begin at 7:30pm
URL:https://bfame.co.uk/index.php/event/absent-friends/
LOCATION:The Grange Playhouse – Walsall\, Broadway North\, Walsall\, WS1 2QB\, United Kingdom
CATEGORIES:Fellowship Players
ATTACH;FMTTYPE=image/webp:https://bfame.co.uk/wp-content/uploads/2025/05/absentfriendsa3-1.webp
END:VEVENT
END:VCALENDAR