BEGIN:VCALENDAR
VERSION:2.0
PRODID:-//bfame.co.uk - ECPv6.15.12.2//NONSGML v1.0//EN
CALSCALE:GREGORIAN
METHOD:PUBLISH
X-ORIGINAL-URL:https://bfame.co.uk
X-WR-CALDESC:Events for bfame.co.uk
REFRESH-INTERVAL;VALUE=DURATION:PT1H
X-Robots-Tag:noindex
X-PUBLISHED-TTL:PT1H
BEGIN:VTIMEZONE
TZID:Europe/London
BEGIN:DAYLIGHT
TZOFFSETFROM:+0000
TZOFFSETTO:+0100
TZNAME:BST
DTSTART:20240331T010000
END:DAYLIGHT
BEGIN:STANDARD
TZOFFSETFROM:+0100
TZOFFSETTO:+0000
TZNAME:GMT
DTSTART:20241027T010000
END:STANDARD
BEGIN:DAYLIGHT
TZOFFSETFROM:+0000
TZOFFSETTO:+0100
TZNAME:BST
DTSTART:20250330T010000
END:DAYLIGHT
BEGIN:STANDARD
TZOFFSETFROM:+0100
TZOFFSETTO:+0000
TZNAME:GMT
DTSTART:20251026T010000
END:STANDARD
BEGIN:DAYLIGHT
TZOFFSETFROM:+0000
TZOFFSETTO:+0100
TZNAME:BST
DTSTART:20260329T010000
END:DAYLIGHT
BEGIN:STANDARD
TZOFFSETFROM:+0100
TZOFFSETTO:+0000
TZNAME:GMT
DTSTART:20261025T010000
END:STANDARD
END:VTIMEZONE
BEGIN:VEVENT
DTSTART;TZID=Europe/London:20251202T193000
DTEND;TZID=Europe/London:20251213T220000
DTSTAMP:20260423T121756
CREATED:20251113T121832Z
LAST-MODIFIED:20251113T121832Z
UID:1960-1764703800-1765663200@bfame.co.uk
SUMMARY:It’s a Wonderful Life
DESCRIPTION:by Mary Elliot Nelson \nDirected by Rob Phillips \nTo be performed from Tuesday 2 to Saturday 13 December 2025 at 7:30pm. \nIt’s Christmas Eve in Bedford Falls\, and George Bailey is at the end of his rope. But when his guardian angel comes to visit\, George discovers what his beloved town would be like without him. Maybe it’s a wonderful life\, after all? \n  \nOrder your ticket here:-  https://www.ticketsource.co.uk/whats-on/sutton-coldfield/highbury-theatre-centre/its-a-wonderful-life/e-vxgmxe
URL:https://bfame.co.uk/index.php/event/its-a-wonderful-life/
LOCATION:Highbury Theatre\, Sheffield Rd\, Wylde Green\, Sutton Coldfield B73 5HD\, Birmingham\, B73 5HD\, United Kingdom
CATEGORIES:Highbury Theatre
ATTACH;FMTTYPE=image/png:https://bfame.co.uk/wp-content/uploads/2025/11/Production-Launch-Wonderful-Life.png
END:VEVENT
END:VCALENDAR