BEGIN:VCALENDAR
VERSION:2.0
PRODID:-//bfame.co.uk - ECPv6.15.12.2//NONSGML v1.0//EN
CALSCALE:GREGORIAN
METHOD:PUBLISH
X-ORIGINAL-URL:https://bfame.co.uk
X-WR-CALDESC:Events for bfame.co.uk
REFRESH-INTERVAL;VALUE=DURATION:PT1H
X-Robots-Tag:noindex
X-PUBLISHED-TTL:PT1H
BEGIN:VTIMEZONE
TZID:Europe/London
BEGIN:DAYLIGHT
TZOFFSETFROM:+0000
TZOFFSETTO:+0100
TZNAME:BST
DTSTART:20240331T010000
END:DAYLIGHT
BEGIN:STANDARD
TZOFFSETFROM:+0100
TZOFFSETTO:+0000
TZNAME:GMT
DTSTART:20241027T010000
END:STANDARD
BEGIN:DAYLIGHT
TZOFFSETFROM:+0000
TZOFFSETTO:+0100
TZNAME:BST
DTSTART:20250330T010000
END:DAYLIGHT
BEGIN:STANDARD
TZOFFSETFROM:+0100
TZOFFSETTO:+0000
TZNAME:GMT
DTSTART:20251026T010000
END:STANDARD
BEGIN:DAYLIGHT
TZOFFSETFROM:+0000
TZOFFSETTO:+0100
TZNAME:BST
DTSTART:20260329T010000
END:DAYLIGHT
BEGIN:STANDARD
TZOFFSETFROM:+0100
TZOFFSETTO:+0000
TZNAME:GMT
DTSTART:20261025T010000
END:STANDARD
END:VTIMEZONE
BEGIN:VEVENT
DTSTART;TZID=Europe/London:20250610T193000
DTEND;TZID=Europe/London:20250621T220000
DTSTAMP:20260425T122914
CREATED:20250605T131707Z
LAST-MODIFIED:20250605T131707Z
UID:1679-1749583800-1750543200@bfame.co.uk
SUMMARY:Stepping Out - Highbury Players
DESCRIPTION:A comedy with two left feet \n\nDirected by Laura McLaurie \n\nA warm and very funny play about the lives\, laughs and loves of a group of women (and one man) attending a weekly tap-dance class in a dingy church hall. \n\nPlease note: Mild\, infrequent bad language \nSuitability: 14+ \n  \nOrder your Ticket Here.
URL:https://bfame.co.uk/index.php/event/stepping-out-highbury-players/
LOCATION:Highbury Theatre\, Sheffield Rd\, Wylde Green\, Sutton Coldfield B73 5HD\, Birmingham\, B73 5HD\, United Kingdom
CATEGORIES:Highbury Theatre
ATTACH;FMTTYPE=image/png:https://bfame.co.uk/wp-content/uploads/2025/06/9-Stepping-Out-FB-profile-pic-1.png
END:VEVENT
END:VCALENDAR