BEGIN:VCALENDAR
VERSION:2.0
PRODID:-//bfame.co.uk - ECPv6.15.12.2//NONSGML v1.0//EN
CALSCALE:GREGORIAN
METHOD:PUBLISH
X-WR-CALNAME:bfame.co.uk
X-ORIGINAL-URL:https://bfame.co.uk
X-WR-CALDESC:Events for bfame.co.uk
REFRESH-INTERVAL;VALUE=DURATION:PT1H
X-Robots-Tag:noindex
X-PUBLISHED-TTL:PT1H
BEGIN:VTIMEZONE
TZID:Europe/London
BEGIN:DAYLIGHT
TZOFFSETFROM:+0000
TZOFFSETTO:+0100
TZNAME:BST
DTSTART:20240331T010000
END:DAYLIGHT
BEGIN:STANDARD
TZOFFSETFROM:+0100
TZOFFSETTO:+0000
TZNAME:GMT
DTSTART:20241027T010000
END:STANDARD
BEGIN:DAYLIGHT
TZOFFSETFROM:+0000
TZOFFSETTO:+0100
TZNAME:BST
DTSTART:20250330T010000
END:DAYLIGHT
BEGIN:STANDARD
TZOFFSETFROM:+0100
TZOFFSETTO:+0000
TZNAME:GMT
DTSTART:20251026T010000
END:STANDARD
BEGIN:DAYLIGHT
TZOFFSETFROM:+0000
TZOFFSETTO:+0100
TZNAME:BST
DTSTART:20260329T010000
END:DAYLIGHT
BEGIN:STANDARD
TZOFFSETFROM:+0100
TZOFFSETTO:+0000
TZNAME:GMT
DTSTART:20261025T010000
END:STANDARD
END:VTIMEZONE
BEGIN:VEVENT
DTSTART;TZID=Europe/London:20250916T193000
DTEND;TZID=Europe/London:20250927T220000
DTSTAMP:20260423T180042
CREATED:20250919T114106Z
LAST-MODIFIED:20250919T114224Z
UID:1835-1758051000-1759010400@bfame.co.uk
SUMMARY:AND THEN THERE WERE NONE by Highbury Players
DESCRIPTION:by Agatha Christie \n\n16 September @ 7:30 pm – 27 September @ 7:30 pm\n\n\n\n\n\n\n\n\n\n\nClassic story from the Queen of Crime\n\n\n\n\nDirected by Emily White \n\nIn the summer of 1939\, ten people are invited to visit Soldier Island\, an isolated rock located off the coast of Devon\, by their mysterious and conspicuously-absent hosts Mr & Mrs Owen. The promise of holidaying however soon turns into a nightmare when each is accused of a terrible crime and they are cut off from the mainland by rolling fog and stormy seas. When one of the party dies suddenly\, they realise there may be a murderer in their midst… \nAnd Then There Were None is a masterfully crafted mystery story by Agatha Christie. With building suspense and unexpected twists\, this classic whodunnit will keep audiences guessing until the very end! \n\nPlease note: Thriller with references to violent death \nSuitability: 14+ \n\n£12plus £2 if not already a centre/audience member for the 2025/26 season\n\nBOOK NOW!
URL:https://bfame.co.uk/index.php/event/and-then-there-were-none-by-highbury-players/
LOCATION:Highbury Theatre\, Sheffield Rd\, Wylde Green\, Sutton Coldfield B73 5HD\, Birmingham\, B73 5HD\, United Kingdom
CATEGORIES:Highbury Theatre
ATTACH;FMTTYPE=image/png:https://bfame.co.uk/wp-content/uploads/2025/09/1-And-Then-There-Were-None.png
END:VEVENT
END:VCALENDAR