BEGIN:VCALENDAR
VERSION:2.0
PRODID:-//bfame.co.uk - ECPv6.15.12.2//NONSGML v1.0//EN
CALSCALE:GREGORIAN
METHOD:PUBLISH
X-ORIGINAL-URL:https://bfame.co.uk
X-WR-CALDESC:Events for bfame.co.uk
REFRESH-INTERVAL;VALUE=DURATION:PT1H
X-Robots-Tag:noindex
X-PUBLISHED-TTL:PT1H
BEGIN:VTIMEZONE
TZID:Europe/London
BEGIN:DAYLIGHT
TZOFFSETFROM:+0000
TZOFFSETTO:+0100
TZNAME:BST
DTSTART:20250330T010000
END:DAYLIGHT
BEGIN:STANDARD
TZOFFSETFROM:+0100
TZOFFSETTO:+0000
TZNAME:GMT
DTSTART:20251026T010000
END:STANDARD
BEGIN:DAYLIGHT
TZOFFSETFROM:+0000
TZOFFSETTO:+0100
TZNAME:BST
DTSTART:20260329T010000
END:DAYLIGHT
BEGIN:STANDARD
TZOFFSETFROM:+0100
TZOFFSETTO:+0000
TZNAME:GMT
DTSTART:20261025T010000
END:STANDARD
BEGIN:DAYLIGHT
TZOFFSETFROM:+0000
TZOFFSETTO:+0100
TZNAME:BST
DTSTART:20270328T010000
END:DAYLIGHT
BEGIN:STANDARD
TZOFFSETFROM:+0100
TZOFFSETTO:+0000
TZNAME:GMT
DTSTART:20271031T010000
END:STANDARD
END:VTIMEZONE
BEGIN:VEVENT
DTSTART;TZID=Europe/London:20260127T193000
DTEND;TZID=Europe/London:20260207T220000
DTSTAMP:20260423T105444
CREATED:20260122T081004Z
LAST-MODIFIED:20260122T081049Z
UID:2019-1769542200-1770501600@bfame.co.uk
SUMMARY:People - Highbury Players
DESCRIPTION:by Alan Bennett \n\nHow hard can clearing an estate be? \n  \nA comedic play that centres on two sisters who are tasked with managing the family estate. What should the future of the house and its historic contents be? Auction? The National Trust? Or something altogether more shady? \n27th Jan-7th Feb \nHighbury Theatre via the Box Office or Ticket Source – http://www.ticketsource.co.uk/whats-on/sutton-coldfield/highbury-theatre-centre/people/e-ddjgdb
URL:https://bfame.co.uk/index.php/event/people/
LOCATION:Highbury Theatre\, Sheffield Rd\, Wylde Green\, Sutton Coldfield B73 5HD\, Birmingham\, B73 5HD\, United Kingdom
CATEGORIES:Highbury Theatre
ATTACH;FMTTYPE=image/webp:https://bfame.co.uk/wp-content/uploads/2026/01/03612-17506015319434-m.webp
END:VEVENT
END:VCALENDAR