BEGIN:VCALENDAR
VERSION:2.0
PRODID:-//bfame.co.uk - ECPv6.15.12.2//NONSGML v1.0//EN
CALSCALE:GREGORIAN
METHOD:PUBLISH
X-ORIGINAL-URL:https://bfame.co.uk
X-WR-CALDESC:Events for bfame.co.uk
REFRESH-INTERVAL;VALUE=DURATION:PT1H
X-Robots-Tag:noindex
X-PUBLISHED-TTL:PT1H
BEGIN:VTIMEZONE
TZID:Europe/London
BEGIN:DAYLIGHT
TZOFFSETFROM:+0000
TZOFFSETTO:+0100
TZNAME:BST
DTSTART:20250330T010000
END:DAYLIGHT
BEGIN:STANDARD
TZOFFSETFROM:+0100
TZOFFSETTO:+0000
TZNAME:GMT
DTSTART:20251026T010000
END:STANDARD
BEGIN:DAYLIGHT
TZOFFSETFROM:+0000
TZOFFSETTO:+0100
TZNAME:BST
DTSTART:20260329T010000
END:DAYLIGHT
BEGIN:STANDARD
TZOFFSETFROM:+0100
TZOFFSETTO:+0000
TZNAME:GMT
DTSTART:20261025T010000
END:STANDARD
BEGIN:DAYLIGHT
TZOFFSETFROM:+0000
TZOFFSETTO:+0100
TZNAME:BST
DTSTART:20270328T010000
END:DAYLIGHT
BEGIN:STANDARD
TZOFFSETFROM:+0100
TZOFFSETTO:+0000
TZNAME:GMT
DTSTART:20271031T010000
END:STANDARD
END:VTIMEZONE
BEGIN:VEVENT
DTSTART;TZID=Europe/London:20260423T193000
DTEND;TZID=Europe/London:20260425T220000
DTSTAMP:20260422T120953
CREATED:20260305T080635Z
LAST-MODIFIED:20260305T080900Z
UID:2336-1776972600-1777154400@bfame.co.uk
SUMMARY:Lord of the Flies - Obsidian Theatre Productions
DESCRIPTION:Obsidian Theatrical Productions\n\n\n\n\n\n\n\n\n Thursday 23rd April 2026 – Saturday 25th April 2026\n\n\n\n\n\n\n\n\n\nIn the midst of war\, a plane evacuating a group of schoolboys from Britain is shot down over a deserted tropical island.\nWith no adult survivors\, the boys\, ranging in age from six to twelve\, are left to fend for and govern themselves. \nAt first it feels like a game. A conch shell is found\, and bestowed the symbolism of a ‘talking stick’. A leader is elected in Ralph\, who assigns duties to ensure the group’s survival. A hunting party is formed\, with Jack at its head. But soon Jack is jealous of Ralph’s power\, and begins to cause divisions amongst the boys\, prioritising bloodthirsty pig-hunting over Ralph’s more practical shelter building. \nThe situation escalates when a strange flying shape is mistaken for a beast\, and the boys begin to be afraid. Innocent parties like the philosophical Simon or the hapless Piggy will be caught in the crossfire as Jack and his followers grow increasingly savage in their actions. More than just pig’s blood will be spilled before long. \n\n\n\n\nBook Tickets Here:-  https://www.ticketsource.co.uk/dovehousetheatre/lord-of-the-flies-obsidian-theatrical-productions/e-rbvakp
URL:https://bfame.co.uk/index.php/event/lord-of-the-flies/
LOCATION:The Dovehouse Theatre\, Langley\, B92 7ER\, United Kingdom
CATEGORIES:Obsidian
ATTACH;FMTTYPE=image/webp:https://bfame.co.uk/wp-content/uploads/2026/03/01822-17654541287175-s.webp
END:VEVENT
END:VCALENDAR