BEGIN:VCALENDAR
VERSION:2.0
PRODID:-//bfame.co.uk - ECPv6.15.12.2//NONSGML v1.0//EN
CALSCALE:GREGORIAN
METHOD:PUBLISH
X-WR-CALNAME:bfame.co.uk
X-ORIGINAL-URL:https://bfame.co.uk
X-WR-CALDESC:Events for bfame.co.uk
REFRESH-INTERVAL;VALUE=DURATION:PT1H
X-Robots-Tag:noindex
X-PUBLISHED-TTL:PT1H
BEGIN:VTIMEZONE
TZID:Europe/London
BEGIN:DAYLIGHT
TZOFFSETFROM:+0000
TZOFFSETTO:+0100
TZNAME:BST
DTSTART:20250330T010000
END:DAYLIGHT
BEGIN:STANDARD
TZOFFSETFROM:+0100
TZOFFSETTO:+0000
TZNAME:GMT
DTSTART:20251026T010000
END:STANDARD
BEGIN:DAYLIGHT
TZOFFSETFROM:+0000
TZOFFSETTO:+0100
TZNAME:BST
DTSTART:20260329T010000
END:DAYLIGHT
BEGIN:STANDARD
TZOFFSETFROM:+0100
TZOFFSETTO:+0000
TZNAME:GMT
DTSTART:20261025T010000
END:STANDARD
BEGIN:DAYLIGHT
TZOFFSETFROM:+0000
TZOFFSETTO:+0100
TZNAME:BST
DTSTART:20270328T010000
END:DAYLIGHT
BEGIN:STANDARD
TZOFFSETFROM:+0100
TZOFFSETTO:+0000
TZNAME:GMT
DTSTART:20271031T010000
END:STANDARD
END:VTIMEZONE
BEGIN:VEVENT
DTSTART;TZID=Europe/London:20260509T193000
DTEND;TZID=Europe/London:20260516T220000
DTSTAMP:20260422T120758
CREATED:20260416T135355Z
LAST-MODIFIED:20260416T135355Z
UID:2753-1778355000-1778968800@bfame.co.uk
SUMMARY:Curtain Up! Oldbury Rep Players
DESCRIPTION:By Peter Quilter \n  \nBASED ON THE author’s earlier Respecting Your Piers\, CURTAIN UP! is the hilarious story of five women who inherit equal shares in a dilapidated theatre and plan to bring it back to life again. They try various fundraising schemes\, but their most ambitious is to hold a concert featuring local talent and a world-famous star who agrees to appear for no fee! However\, their plans go awry and it’s a race to keep their audience from guessing the truth of the matter.\nA fast-paced and very funny comedy. \nClick Here for Tickets :-  https://oldburyrep.savoysystems.co.uk/OldburyRep.dll/TSelectItems.waSelectItemsPrompt.TcsWebMenuItem_1025.TcsWebTab_1026.TcsProgramme_489248 \n  \n 
URL:https://bfame.co.uk/index.php/event/curtain-up-oldbury-rep-players/
LOCATION:Oldbury Repertory\, Spring Walk\,\, Langley\, B69 4SP\, United Kingdom
CATEGORIES:Oldbury Repertory
ATTACH;FMTTYPE=image/jpeg:https://bfame.co.uk/wp-content/uploads/2026/04/orp2025-web_vert_51.jpg
END:VEVENT
END:VCALENDAR