BEGIN:VCALENDAR
VERSION:2.0
PRODID:-//bfame.co.uk - ECPv6.15.12.2//NONSGML v1.0//EN
CALSCALE:GREGORIAN
METHOD:PUBLISH
X-ORIGINAL-URL:https://bfame.co.uk
X-WR-CALDESC:Events for bfame.co.uk
REFRESH-INTERVAL;VALUE=DURATION:PT1H
X-Robots-Tag:noindex
X-PUBLISHED-TTL:PT1H
BEGIN:VTIMEZONE
TZID:Europe/London
BEGIN:DAYLIGHT
TZOFFSETFROM:+0000
TZOFFSETTO:+0100
TZNAME:BST
DTSTART:20250330T010000
END:DAYLIGHT
BEGIN:STANDARD
TZOFFSETFROM:+0100
TZOFFSETTO:+0000
TZNAME:GMT
DTSTART:20251026T010000
END:STANDARD
BEGIN:DAYLIGHT
TZOFFSETFROM:+0000
TZOFFSETTO:+0100
TZNAME:BST
DTSTART:20260329T010000
END:DAYLIGHT
BEGIN:STANDARD
TZOFFSETFROM:+0100
TZOFFSETTO:+0000
TZNAME:GMT
DTSTART:20261025T010000
END:STANDARD
BEGIN:DAYLIGHT
TZOFFSETFROM:+0000
TZOFFSETTO:+0100
TZNAME:BST
DTSTART:20270328T010000
END:DAYLIGHT
BEGIN:STANDARD
TZOFFSETFROM:+0100
TZOFFSETTO:+0000
TZNAME:GMT
DTSTART:20271031T010000
END:STANDARD
END:VTIMEZONE
BEGIN:VEVENT
DTSTART;TZID=Europe/London:20260307T193000
DTEND;TZID=Europe/London:20260314T220000
DTSTAMP:20260422T105759
CREATED:20260305T080249Z
LAST-MODIFIED:20260305T080746Z
UID:2333-1772911800-1773525600@bfame.co.uk
SUMMARY:The Father - Oldbury Repertory
DESCRIPTION:7 – 14 March 2026 \nFlorian Zeller Translated by Christopher Hampton \n\n\nTHE FATHER\, by Florian Zeller\, in this English translation by Christopher Hampton\, was commissioned by the Ustinov Studio\, Theatre Royal\, Bath and premiered in October 2014. The production transferred to the Tricycle Theatre\, London\, in May 2015. It was awarded the Molière Award for Best Play 2014.\nThis amateur production of “The Father” is presented by arrangement with Concord Theatricals Ltd. on behalf of Samuel French Ltd. www.concordtheatricals.co.uk \n\nBook Online!
URL:https://bfame.co.uk/index.php/event/the-father/
LOCATION:Oldbury Repertory\, Spring Walk\,\, Langley\, B69 4SP\, United Kingdom
CATEGORIES:Oldbury Repertory
ATTACH;FMTTYPE=image/jpeg:https://bfame.co.uk/wp-content/uploads/2026/03/orp2025-web_vert_41.jpg
END:VEVENT
BEGIN:VEVENT
DTSTART;TZID=Europe/London:20260203T193000
DTEND;TZID=Europe/London:20260208T220000
DTSTAMP:20260422T105759
CREATED:20260122T082856Z
LAST-MODIFIED:20260122T082856Z
UID:2027-1770147000-1770588000@bfame.co.uk
SUMMARY:Macbeth - Oldbury Rep
DESCRIPTION:By William Shakespeare  \nadapted by Paul Steventon Marks. \n\n\n\n‘Blood will have blood!…’\n\n\nThis specially adapted and immersive version \,viscerally brings to life Shakespeare’s tragic tale of greed\, ambition and ultimate downfall. \nThe production will be staged in our Studio Theatre and we regret that there is no wheelchair access to this venue. \nPerformances start at 7.30pm on 3rd-7th Feb with a 2.30pm matinee on the 8thFeb. Tickets are priced at £10.00.\n\nBook Online!
URL:https://bfame.co.uk/index.php/event/macbeth-oldbury-rep/
LOCATION:Oldbury Repertory\, Spring Walk\,\, Langley\, B69 4SP\, United Kingdom
CATEGORIES:Oldbury Repertory
ATTACH;FMTTYPE=image/png:https://bfame.co.uk/wp-content/uploads/2026/01/A64284B6-8955-42EE-9935-0D03D548D82C-e1767789504612.png
END:VEVENT
END:VCALENDAR