BEGIN:VCALENDAR
VERSION:2.0
PRODID:-//bfame.co.uk - ECPv6.15.12.2//NONSGML v1.0//EN
CALSCALE:GREGORIAN
METHOD:PUBLISH
X-ORIGINAL-URL:https://bfame.co.uk
X-WR-CALDESC:Events for bfame.co.uk
REFRESH-INTERVAL;VALUE=DURATION:PT1H
X-Robots-Tag:noindex
X-PUBLISHED-TTL:PT1H
BEGIN:VTIMEZONE
TZID:Europe/London
BEGIN:DAYLIGHT
TZOFFSETFROM:+0000
TZOFFSETTO:+0100
TZNAME:BST
DTSTART:20240331T010000
END:DAYLIGHT
BEGIN:STANDARD
TZOFFSETFROM:+0100
TZOFFSETTO:+0000
TZNAME:GMT
DTSTART:20241027T010000
END:STANDARD
BEGIN:DAYLIGHT
TZOFFSETFROM:+0000
TZOFFSETTO:+0100
TZNAME:BST
DTSTART:20250330T010000
END:DAYLIGHT
BEGIN:STANDARD
TZOFFSETFROM:+0100
TZOFFSETTO:+0000
TZNAME:GMT
DTSTART:20251026T010000
END:STANDARD
BEGIN:DAYLIGHT
TZOFFSETFROM:+0000
TZOFFSETTO:+0100
TZNAME:BST
DTSTART:20260329T010000
END:DAYLIGHT
BEGIN:STANDARD
TZOFFSETFROM:+0100
TZOFFSETTO:+0000
TZNAME:GMT
DTSTART:20261025T010000
END:STANDARD
END:VTIMEZONE
BEGIN:VEVENT
DTSTART;TZID=Europe/London:20251129T193000
DTEND;TZID=Europe/London:20251130T220000
DTSTAMP:20260422T105128
CREATED:20251008T075953Z
LAST-MODIFIED:20251008T080015Z
UID:1898-1764444600-1764540000@bfame.co.uk
SUMMARY:Into The Woods Jr - Script Youth Musical Theatre
DESCRIPTION:Step Into the Woods!\nFairy tales collide in this magical\, musical adventure! Into the Woods JR brings together Cinderella\, Jack (of beanstalk fame)\, Little Red Riding Hood\, Rapunzel\, and a Baker and his Wife on a quest filled with wishes\, curses\, giants\, and surprises. \nWith dazzling music by Stephen Sondheim and a witty\, heartfelt story\, this show asks what really happens after “happily ever after.” Funny\, touching\, and full of imagination\, Into the Woods JR is a spellbinding journey for all ages — reminding us that no one is alone. \nScript Youth Musical Theatre Company is a multi award winning local youth amateur theatre company that has just celebrated its 10th year annivesary in July 2024 .Script Youth is based in Mere Green\, Sutton Coldfield\, for young people aged 9-21. \nSee https://www.script-ymtc.org.uk/ for tickets
URL:https://bfame.co.uk/index.php/event/into-the-woods-jr-script-youth-musical-theatre/
LOCATION:Crescent Theatre\, Birmingham\, B16 8AE
CATEGORIES:Script Youth
ATTACH;FMTTYPE=image/jpeg:https://bfame.co.uk/wp-content/uploads/2025/10/IMG_6715.jpg
END:VEVENT
BEGIN:VEVENT
DTSTART;TZID=Europe/London:20250912T193000
DTEND;TZID=Europe/London:20250913T220000
DTSTAMP:20260422T105128
CREATED:20250529T110005Z
LAST-MODIFIED:20250529T110303Z
UID:1571-1757705400-1757800800@bfame.co.uk
SUMMARY:Beauty And The Beast -  Script Youth Musical Theatre
DESCRIPTION:On the 12th & 13th September 2025 \nFriday 12th @ 7:30 pm \nSaturday 13th @ 2:30pm & 7:30pm \nThe Crescent Theatre\, The Main House \nBeauty and the Beast will be performed on the MAIN STAGE At The Crescent Theatre Birmingham in September 2025. \nTake advantage of our Early Bird offer for our Production of BEAUTY AND THE BEAST \nALL SEATS £14\nDiscount applied at checkout !! \nBook direct with the Crescent Theatre \nBuy Tickets Here
URL:https://bfame.co.uk/index.php/event/beauty-and-the-beast-script-youth-musical-theatre/
LOCATION:Crescent Theatre\, Birmingham\, B16 8AE
CATEGORIES:Script Youth
ATTACH;FMTTYPE=image/png:https://bfame.co.uk/wp-content/uploads/2025/05/Screenshot-2025-01-26-at-21.23.46.png
END:VEVENT
BEGIN:VEVENT
DTSTART;TZID=Europe/London:20250702T193000
DTEND;TZID=Europe/London:20250705T220000
DTSTAMP:20260422T105128
CREATED:20250529T105516Z
LAST-MODIFIED:20250529T105516Z
UID:1568-1751484600-1751752800@bfame.co.uk
SUMMARY:LEGALLY BLONDE THE MUSICAL JR - Script Youth Musical Theatre Company
DESCRIPTION:2 July @ 7:30 pm – 5 July @ 10:00 pm\n\nAnd also a matinee performance on Saturday 5 July @ 2:30 pm \n\n\nBased on the award-winning Broadway musical and the smash hit motion picture\, Legally Blonde JR. is a fabulously fun journey of self-empowerment and expanding horizons. The show’s instantly recognizable songs are filled with humor\, wit and sass – leaving cast members and audiences alike seeing pink! \nLegally Blonde JR. follows the transformation of Elle Woods as she tackles stereotypes\, snobbery and scandal in pursuit of her dreams. When Elle’s high school boyfriend\, Warner\, dumps her and heads to Harvard\, claiming she’s not “serious” enough\, Elle takes matters into her own hands\, crafting a showy song-and-dance personal essay and charming her way into law school. \nBefriending classmate\, Emmett\, and spunky hairdresser\, Paulette\, along the way\, Elle finds that books and looks aren’t mutually exclusive.  As Elle begins outsmarting her peers\, she realises that law may be her natural calling after all. \n  \n\nBuy Tickets Here
URL:https://bfame.co.uk/index.php/event/legally-blonde-the-musical-jr-script-youth-musical-theatre-company/
LOCATION:Highbury Theatre\, Sheffield Rd\, Wylde Green\, Sutton Coldfield B73 5HD\, Birmingham\, B73 5HD\, United Kingdom
CATEGORIES:Script Youth
ATTACH;FMTTYPE=image/png:https://bfame.co.uk/wp-content/uploads/2025/05/Legally-Blonde-image.png
END:VEVENT
BEGIN:VEVENT
DTSTART;TZID=Europe/London:20250530T193000
DTEND;TZID=Europe/London:20250531T220000
DTSTAMP:20260422T105128
CREATED:20250529T110645Z
LAST-MODIFIED:20250529T110645Z
UID:1575-1748633400-1748728800@bfame.co.uk
SUMMARY:Jesus Christ Superstar - Smile Musical Youth Theatre
DESCRIPTION:Jesus Christ Superstar reimagines the last week of Jesus Christ’s life. Set against a backdrop of political tension and social unrest\, the story delves into the emotional struggles and complex relationships between Jesus\, his disciples\, followers and adversaries. With hit songs like “I Don’t Know How to Love Him”\, “Gethsemane” and “Superstar”\, this show is sure to entertain all audiences. So why not experience the electrifying Jesus Christ Superstar with Smile Musical Youth Theatre! \n\n\n\n\nFriday 30th May 2025\n\n7:30pm \n\n\n\n\nSaturday 31st May 2025\n\n2:30pm \n7:30pm \n\n\nClick the times to Book Tickets.\n\n\nDormston Mill Theatre \n\nMill Bank\nSedgley\nDY3 1SL
URL:https://bfame.co.uk/index.php/event/jesus-christ-superstar-smile-musical-youth-theatre/
LOCATION:Dormston Mill Theatre\, Sedgley\, DY3 1SL
CATEGORIES:Script Youth
ATTACH;FMTTYPE=image/png:https://bfame.co.uk/wp-content/uploads/2025/05/2024-Aug-30-Fri_22-28-56-406.png
END:VEVENT
END:VCALENDAR