BEGIN:VCALENDAR
VERSION:2.0
PRODID:-//bfame.co.uk - ECPv6.15.12.2//NONSGML v1.0//EN
CALSCALE:GREGORIAN
METHOD:PUBLISH
X-ORIGINAL-URL:https://bfame.co.uk
X-WR-CALDESC:Events for bfame.co.uk
REFRESH-INTERVAL;VALUE=DURATION:PT1H
X-Robots-Tag:noindex
X-PUBLISHED-TTL:PT1H
BEGIN:VTIMEZONE
TZID:Europe/London
BEGIN:DAYLIGHT
TZOFFSETFROM:+0000
TZOFFSETTO:+0100
TZNAME:BST
DTSTART:20240331T010000
END:DAYLIGHT
BEGIN:STANDARD
TZOFFSETFROM:+0100
TZOFFSETTO:+0000
TZNAME:GMT
DTSTART:20241027T010000
END:STANDARD
BEGIN:DAYLIGHT
TZOFFSETFROM:+0000
TZOFFSETTO:+0100
TZNAME:BST
DTSTART:20250330T010000
END:DAYLIGHT
BEGIN:STANDARD
TZOFFSETFROM:+0100
TZOFFSETTO:+0000
TZNAME:GMT
DTSTART:20251026T010000
END:STANDARD
BEGIN:DAYLIGHT
TZOFFSETFROM:+0000
TZOFFSETTO:+0100
TZNAME:BST
DTSTART:20260329T010000
END:DAYLIGHT
BEGIN:STANDARD
TZOFFSETFROM:+0100
TZOFFSETTO:+0000
TZNAME:GMT
DTSTART:20261025T010000
END:STANDARD
BEGIN:DAYLIGHT
TZOFFSETFROM:+0000
TZOFFSETTO:+0100
TZNAME:BST
DTSTART:20270328T010000
END:DAYLIGHT
BEGIN:STANDARD
TZOFFSETFROM:+0100
TZOFFSETTO:+0000
TZNAME:GMT
DTSTART:20271031T010000
END:STANDARD
END:VTIMEZONE
BEGIN:VEVENT
DTSTART;TZID=Europe/London:20260209T180000
DTEND;TZID=Europe/London:20260212T220000
DTSTAMP:20260421T093021
CREATED:20260105T084032Z
LAST-MODIFIED:20260105T084119Z
UID:2008-1770660000-1770933600@bfame.co.uk
SUMMARY:Legally Blonde: The Musical - Solihull School
DESCRIPTION:Show Dates: 9th\, 10th\, 11th & 12th February 2026\n\n(drinks reception on the 11th only)\n11 Feb 2026  6:15 PM – 7:00 PM\n\n\n\n\nCelebrating 50 Years of Musicals at Solihull School\n1976 – 2026 \nJoin us as we mark half a century of show-stopping performances\, unforgettable characters\, and the incredible talent of generations of Solihull School students! From the golden age of Broadway classics to modern smash hits\, our school musicals have brought joy\, inspiration\, and community spirit to the Bushell Hall for five remarkable decades. \nWhether you starred under the lights\, played in the pit\, or cheered from the seats – we invite alumni\, current families\, and the wider community to celebrate this historic milestone with us. \nLEGALLY BLONDE: THE MUSICAL\nShow Dates: 9th\, 10th\, 11th & 12th February 2026 (drinks reception on the 11th only)\nTime: 7:00pm\nVenue: Bushell Hall\, Solihull School \nA fabulous\, feel-good musical packed with heart\, humour\, and high-energy choreography – the perfect way to celebrate 50 years of musical theatre magic. \n\nhttps://alumni.solsch.org.uk/events/view/school-musical-legally-blonde-and-pre-performance-drinks-reception
URL:https://bfame.co.uk/index.php/event/legally-blonde-the-musical/
LOCATION:Solihull School\, Brueton Avenue\, Solihull\, B91 3EN
CATEGORIES:Solihull School
ATTACH;FMTTYPE=image/png:https://bfame.co.uk/wp-content/uploads/2026/01/Screenshot-2026-01-05-at-08.39.27.png
END:VEVENT
BEGIN:VEVENT
DTSTART;TZID=Europe/London:20251013T190000
DTEND;TZID=Europe/London:20251015T203000
DTSTAMP:20260421T093021
CREATED:20250908T075505Z
LAST-MODIFIED:20250909T150948Z
UID:1809-1760382000-1760560200@bfame.co.uk
SUMMARY:The Curious Incident of the Dog in the Night-Time - Solihull School Drama Department
DESCRIPTION:Solihull School Drama Department – Directed by Kirsteen Stafford \nThe play tells the story of Christopher John Francis Boone\, who is 15 years old. He stands besides Mrs Shears’ dead dog\, Wellington\, who has been speared with a garden fork. It is seven minutes after midnight\, and Christopher is under suspicion. He records each fact in a book he is writing to solve the mystery of who killed Wellington. He has an extraordinary brain and is exceptional at maths while ill-equipped to interpret everyday life. He has never ventured alone beyond the end of his road\, he detests being touched and he distrusts strangers. But his detective work\, forbidden by his father\, takes him on a frightening journey that upturns his world. \n  \nThe play will start at 7.00pm and should last about 1hr 30 minutes (finishing around 8.30pm).\n\nSchool Performing Arts Instagram: @solschperformingarts\nTickets will be advertised via our main school social media accounts and the school performing arts instagram account. \nPlease email admin@solsch.org.uk for more details.
URL:https://bfame.co.uk/index.php/event/the-curious-incident-of-the-dog-in-the-night-time/
LOCATION:Solihull School\, Brueton Avenue\, Solihull\, B91 3EN
CATEGORIES:Solihull School
ATTACH;FMTTYPE=image/png:https://bfame.co.uk/wp-content/uploads/2025/09/solschplay25_poster_final.png
END:VEVENT
END:VCALENDAR