BEGIN:VCALENDAR
VERSION:2.0
PRODID:-//bfame.co.uk - ECPv6.15.12.2//NONSGML v1.0//EN
CALSCALE:GREGORIAN
METHOD:PUBLISH
X-WR-CALNAME:bfame.co.uk
X-ORIGINAL-URL:https://bfame.co.uk
X-WR-CALDESC:Events for bfame.co.uk
REFRESH-INTERVAL;VALUE=DURATION:PT1H
X-Robots-Tag:noindex
X-PUBLISHED-TTL:PT1H
BEGIN:VTIMEZONE
TZID:Europe/London
BEGIN:DAYLIGHT
TZOFFSETFROM:+0000
TZOFFSETTO:+0100
TZNAME:BST
DTSTART:20240331T010000
END:DAYLIGHT
BEGIN:STANDARD
TZOFFSETFROM:+0100
TZOFFSETTO:+0000
TZNAME:GMT
DTSTART:20241027T010000
END:STANDARD
BEGIN:DAYLIGHT
TZOFFSETFROM:+0000
TZOFFSETTO:+0100
TZNAME:BST
DTSTART:20250330T010000
END:DAYLIGHT
BEGIN:STANDARD
TZOFFSETFROM:+0100
TZOFFSETTO:+0000
TZNAME:GMT
DTSTART:20251026T010000
END:STANDARD
BEGIN:DAYLIGHT
TZOFFSETFROM:+0000
TZOFFSETTO:+0100
TZNAME:BST
DTSTART:20260329T010000
END:DAYLIGHT
BEGIN:STANDARD
TZOFFSETFROM:+0100
TZOFFSETTO:+0000
TZNAME:GMT
DTSTART:20261025T010000
END:STANDARD
BEGIN:DAYLIGHT
TZOFFSETFROM:+0000
TZOFFSETTO:+0100
TZNAME:BST
DTSTART:20270328T010000
END:DAYLIGHT
BEGIN:STANDARD
TZOFFSETFROM:+0100
TZOFFSETTO:+0000
TZNAME:GMT
DTSTART:20271031T010000
END:STANDARD
END:VTIMEZONE
BEGIN:VEVENT
DTSTART;TZID=Europe/London:20260319T193000
DTEND;TZID=Europe/London:20260328T220000
DTSTAMP:20260422T121626
CREATED:20260206T081243Z
LAST-MODIFIED:20260206T083000Z
UID:2112-1773948600-1774735200@bfame.co.uk
SUMMARY:The Hills of California - Sutton Arts Theatre
DESCRIPTION:Written by Jez Butterworth \nDirected by Emily Armstrong \n\n  \nBlackpool\, 1976. The driest summer in 200 years. The beaches are packed. The hotels are heaving. In the sweltering back streets\, far from the choc ices and donkey rides\, the Webb Sisters are returning to their childhood home – the run-down Sea View Guest House – to say “goodbye” to their ailing mother. From Tony award winning writer\, Jez Butterworth\, this “relentlessly entertaining new play” (The New York Times) transports audiences to the 1970s\, then further back to the 1950s when the sisters\, dreaming of becoming a famous singing group\, had their lives changed forever. As memories from their youth come flooding back\, the sisters must confront their past and untangle a web of secrets\, betrayals\, and profound emotional bonds. \n\n\nAge 14+ \n\n\n\n\n\n\n\n\n\n\n\n\nThursday 19 Mar 2026\n\n19:30 Book Now\n\n\nFriday 20 Mar 2026\n\n19:30 Book Now\n\n\nSaturday 21 Mar 2026\n\n19:30 Book Now\n\n\nWednesday 25 Mar 2026\n\n19:30 Book Now\n\n\nThursday 26 Mar 2026\n\n19:30 Book Now\n\n\nFriday 27 Mar 2026\n\n19:30 Book Now\n\n\nSaturday 28 Mar 2026\n\n19:30 Book Now
URL:https://bfame.co.uk/index.php/event/the-hills-of-california/
LOCATION:Sutton Arts Theatre\, Birmingham\, B72 1QU
CATEGORIES:Sutton Arts Theatre
ATTACH;FMTTYPE=image/jpeg:https://bfame.co.uk/wp-content/uploads/2026/02/california.jpg
END:VEVENT
BEGIN:VEVENT
DTSTART;TZID=Europe/London:20260129T193000
DTEND;TZID=Europe/London:20260207T220000
DTSTAMP:20260422T121626
CREATED:20251008T080558Z
LAST-MODIFIED:20251008T080641Z
UID:1901-1769715000-1770501600@bfame.co.uk
SUMMARY:A kick in the Baubles - Sutton Arts
DESCRIPTION:Written by Gordon Steele \n  \nDirected by Maureen George \nIt’s another peaceful Christmas in the Bauble household\, but chestnuts aren’t roasting on an open fire. And although a Silent Night would be welcome\, all is not calm and all is certainly not bright! Whilst Jean is decking the halls and readying for an invasion of guests\, Frank does not wish it could be Christmas every day! He’s just been made redundant and is dreading the annual invasion of his in-laws\, Harry and Doreen\, utter snobs\, and full-time moaners. Then the neighbours\, Gary and Julie arrive\, larger than life and bringing with them a Karaoke Machine. As the drink flows merrily\, everything is set for a car-crash Christmas. But when Frank and Jean’s estranged daughter Milly suddenly appears\, the rug is pulled out from underneath the chaos and the heartstrings are firmly tugged! Packed with some hilarious one liners\, this glorious comedy is the gift that keeps on giving. \n  \nBook Tickets at – https://suttonartstheatre.savoysystems.co.uk/SuttonArtsTheatre.dll/TSelectItems.waSelectItemsPrompt.TcsWebMenuItem_451.TcsWebTab_452.TcsProgramme_639003
URL:https://bfame.co.uk/index.php/event/a-kick-in-the-baubles-sutton-arts/
LOCATION:Sutton Arts Theatre\, Birmingham\, B72 1QU
CATEGORIES:Sutton Arts Theatre
ATTACH;FMTTYPE=image/jpeg:https://bfame.co.uk/wp-content/uploads/2025/10/baubles.jpg
END:VEVENT
BEGIN:VEVENT
DTSTART;TZID=Europe/London:20251206T193000
DTEND;TZID=Europe/London:20251220T220000
DTSTAMP:20260422T121626
CREATED:20250929T095902Z
LAST-MODIFIED:20250929T095902Z
UID:1873-1765049400-1766268000@bfame.co.uk
SUMMARY:Aladdin - Sutton Arts Theatre
DESCRIPTION:Written by Emily Armstrong & Dexter Whitehead \n\nYour wishes have been granted\, as the much-loved tale of Aladdin flies into Sutton Arts this festive season! Aladdin dreams of finding love and making his fortune. When he discovers an enchanted lamp and meets a mysterious genie\, it looks like all of his wishes are going to come true. Our annual award winning pantomime is back by popular demand and it couldn’t be better! Featuring a lamp-load of comedy\, special effects\, sensational songs and plenty of boos and hisses\, the whole family will enjoy. So be a genie-us and book your tickets for this magical carpet ride! \n\n\nDirected by Emily Armstrong & Dexter Whitehead \nClick for Tickets
URL:https://bfame.co.uk/index.php/event/aladdin-sutton-arts-theatre/
LOCATION:Sutton Arts Theatre\, Birmingham\, B72 1QU
CATEGORIES:Sutton Arts Theatre
ATTACH;FMTTYPE=image/jpeg:https://bfame.co.uk/wp-content/uploads/2025/09/aladdin.jpg
END:VEVENT
BEGIN:VEVENT
DTSTART;TZID=Europe/London:20251023T193000
DTEND;TZID=Europe/London:20251101T220000
DTSTAMP:20260422T121626
CREATED:20250929T095300Z
LAST-MODIFIED:20250929T095348Z
UID:1870-1761247800-1762034400@bfame.co.uk
SUMMARY:Haunting Julia - Sutton Arts Theatre
DESCRIPTION:Written by Alan Ayckbourn \nA gripping thriller from Britain’s favourite playwright. \nJulia was a musical prodigy – Little Miss Mozart they called her – with the world at her feet. Until her body was found lying in a pool of blood. Twelve years have passed and Joe\, her father has never stopped asking why? Did she really take her own life? Or was someone else with her on that fateful night? Strange sounds and signs have begun to haunt the shrine Joe has built to his lost daughter. Tonight he wants an answer……. But will he get it? \nA spine tingling ghost story that will have you on the edge of your seat. \n\n\nDirected by Claire Armstrong-Mills \n\n\n\n\n\n\nClick for tickets
URL:https://bfame.co.uk/index.php/event/haunting-julia-sutton-arts-theatre/
LOCATION:Sutton Arts Theatre\, Birmingham\, B72 1QU
CATEGORIES:Sutton Arts Theatre
ATTACH;FMTTYPE=image/jpeg:https://bfame.co.uk/wp-content/uploads/2025/09/julia.jpg
END:VEVENT
BEGIN:VEVENT
DTSTART;TZID=Europe/London:20250911T193000
DTEND;TZID=Europe/London:20250920T220000
DTSTAMP:20260422T121626
CREATED:20250909T065513Z
LAST-MODIFIED:20250909T065513Z
UID:1814-1757619000-1758405600@bfame.co.uk
SUMMARY:Witness for the Prosecution - Sutton Arts Theatre
DESCRIPTION:YOU HAVE BEEN SUMMONED FOR JURY SERVICE… \nAgatha Christie’s gripping story of justice\, passion and betrayal. Leonard Vole is accused of murdering a widow to inherit her wealth. \nThe stakes are high – will Leonard survive the shocking witness testimony\, will he be able to convince the jury\, and you of his innocence and escape the hangman’s noose? \nAll rise for this unmissable courtroom drama. \n  \nClick for tickets :-  https://suttonartstheatre.savoysystems.co.uk/SuttonArtsTheatre.dll/TSelectItems.waSelectItemsPrompt.TcsWebMenuItem_451.TcsWebTab_452.TcsProgramme_639021
URL:https://bfame.co.uk/index.php/event/witness-for-the-prosecution-sutton-arts-theatre/
LOCATION:Sutton Arts Theatre\, Birmingham\, B72 1QU
CATEGORIES:Sutton Arts Theatre
ATTACH;FMTTYPE=image/jpeg:https://bfame.co.uk/wp-content/uploads/2025/09/639019.jpg
END:VEVENT
BEGIN:VEVENT
DTSTART;TZID=Europe/London:20250619T193000
DTEND;TZID=Europe/London:20250628T220000
DTSTAMP:20260422T121626
CREATED:20250529T104828Z
LAST-MODIFIED:20250529T104828Z
UID:1564-1750361400-1751148000@bfame.co.uk
SUMMARY:The Sound of Music - Sutton Arts
DESCRIPTION:When spirited nun-in-training Maria is sent to govern the unruly Von Trapp children\, she brings music\, mischief\, and a whole lot of heart into their strict\, silent home. \nAs Austria teeters on the brink of war\, Maria and the Captain discover love\, family\, and the courage to stand up for what matters most—all set to a timeless\, toe-tapping score. \nGet ready to climb every mountain and sing every song in this heartwarming musical classic! \n\nBuy Tickets Here
URL:https://bfame.co.uk/index.php/event/the-sound-of-music-sutton-arts/
LOCATION:Sutton Arts Theatre\, Birmingham\, B72 1QU
CATEGORIES:Sutton Arts Theatre
ATTACH;FMTTYPE=image/jpeg:https://bfame.co.uk/wp-content/uploads/2025/05/sat_24-25_sound-1-scaled-1.jpg
END:VEVENT
END:VCALENDAR