BEGIN:VCALENDAR
VERSION:2.0
PRODID:-//bfame.co.uk - ECPv6.15.12.2//NONSGML v1.0//EN
CALSCALE:GREGORIAN
METHOD:PUBLISH
X-WR-CALNAME:bfame.co.uk
X-ORIGINAL-URL:https://bfame.co.uk
X-WR-CALDESC:Events for bfame.co.uk
REFRESH-INTERVAL;VALUE=DURATION:PT1H
X-Robots-Tag:noindex
X-PUBLISHED-TTL:PT1H
BEGIN:VTIMEZONE
TZID:Europe/London
BEGIN:DAYLIGHT
TZOFFSETFROM:+0000
TZOFFSETTO:+0100
TZNAME:BST
DTSTART:20250330T010000
END:DAYLIGHT
BEGIN:STANDARD
TZOFFSETFROM:+0100
TZOFFSETTO:+0000
TZNAME:GMT
DTSTART:20251026T010000
END:STANDARD
BEGIN:DAYLIGHT
TZOFFSETFROM:+0000
TZOFFSETTO:+0100
TZNAME:BST
DTSTART:20260329T010000
END:DAYLIGHT
BEGIN:STANDARD
TZOFFSETFROM:+0100
TZOFFSETTO:+0000
TZNAME:GMT
DTSTART:20261025T010000
END:STANDARD
BEGIN:DAYLIGHT
TZOFFSETFROM:+0000
TZOFFSETTO:+0100
TZNAME:BST
DTSTART:20270328T010000
END:DAYLIGHT
BEGIN:STANDARD
TZOFFSETFROM:+0100
TZOFFSETTO:+0000
TZNAME:GMT
DTSTART:20271031T010000
END:STANDARD
END:VTIMEZONE
BEGIN:VEVENT
DTSTART;TZID=Europe/London:20260312T193000
DTEND;TZID=Europe/London:20260321T220000
DTSTAMP:20260421T110018
CREATED:20260202T093508Z
LAST-MODIFIED:20260202T093508Z
UID:2076-1773343800-1774130400@bfame.co.uk
SUMMARY:The Mirror Crack'd - The Grange Players
DESCRIPTION:Written by Agatha Christie\n​Adapted by Rachel Wagstaff\nDirected by Chris Waters \nIn 1960s England\, a wind of change is blowing through the land. It has even reached the sleepy village of St Mary Mead. There’s a new housing estate to make the villagers curious and fearful\, and now the village has been thrown into a frenzy by the news that a glamorous American film star has bought the Manor House. Miss Jane Marple\, confined to a chair after an accident\, is wondering if life has passed her by. Then there is a vicious murder\, and Miss Marple must unravel a web of lies\, tragedy and danger. This adaptation of Agatha Christie’s famous novel brings real emotional depth and psychological insight to a thrilling story of revenge and dark secrets.\n​\n“A fun puzzle… playwright Rachel Wagstaff does a fine job of preserving the key elements of the 1962 novel.”\n– British Theatre Guide \n“A satisfying blend of wit\, drama and intrigue… a modern take on a crime classic… contemporary and fresh despite its setting.” – Birmingham Live \nTickets on sale from Saturday 31st January 2026 \nBook Tickets Here – https://www.ticketsource.co.uk/the-grange-players-ltd
URL:https://bfame.co.uk/index.php/event/the-mirror-crackd-the-grange-players/
LOCATION:The Grange Playhouse – Walsall\, Broadway North\, Walsall\, WS1 2QB\, United Kingdom
CATEGORIES:The Grange Players
ATTACH;FMTTYPE=image/jpeg:https://bfame.co.uk/wp-content/uploads/2026/02/mirror-crack-d_orig.jpg
END:VEVENT
END:VCALENDAR