BEGIN:VCALENDAR
VERSION:2.0
PRODID:-//bfame.co.uk - ECPv6.15.12.2//NONSGML v1.0//EN
CALSCALE:GREGORIAN
METHOD:PUBLISH
X-WR-CALNAME:bfame.co.uk
X-ORIGINAL-URL:https://bfame.co.uk
X-WR-CALDESC:Events for bfame.co.uk
REFRESH-INTERVAL;VALUE=DURATION:PT1H
X-Robots-Tag:noindex
X-PUBLISHED-TTL:PT1H
BEGIN:VTIMEZONE
TZID:Europe/London
BEGIN:DAYLIGHT
TZOFFSETFROM:+0000
TZOFFSETTO:+0100
TZNAME:BST
DTSTART:20240331T010000
END:DAYLIGHT
BEGIN:STANDARD
TZOFFSETFROM:+0100
TZOFFSETTO:+0000
TZNAME:GMT
DTSTART:20241027T010000
END:STANDARD
BEGIN:DAYLIGHT
TZOFFSETFROM:+0000
TZOFFSETTO:+0100
TZNAME:BST
DTSTART:20250330T010000
END:DAYLIGHT
BEGIN:STANDARD
TZOFFSETFROM:+0100
TZOFFSETTO:+0000
TZNAME:GMT
DTSTART:20251026T010000
END:STANDARD
BEGIN:DAYLIGHT
TZOFFSETFROM:+0000
TZOFFSETTO:+0100
TZNAME:BST
DTSTART:20260329T010000
END:DAYLIGHT
BEGIN:STANDARD
TZOFFSETFROM:+0100
TZOFFSETTO:+0000
TZNAME:GMT
DTSTART:20261025T010000
END:STANDARD
END:VTIMEZONE
BEGIN:VEVENT
DTSTART;VALUE=DATE:20250717
DTEND;VALUE=DATE:20250727
DTSTAMP:20260425T114909
CREATED:20250506T131422Z
LAST-MODIFIED:20250506T131517Z
UID:1201-1752710400-1753574399@bfame.co.uk
SUMMARY:DON'T DRESS FOR DINNER - The Grange Players
DESCRIPTION:DON’T DRESS FOR DINNER\n\n\n\n\n\n\n\n\nBernard is planning a romantic weekend with his chic Parisian mistress in his charming converted French farmhouse whilst his wife\, Jacqueline\, is away. He has arranged for a cordon bleu cook to prepare gourmet delights and has invited his best friend\, Robert\, along too to provide the alibi. It’s foolproof; what could possibly go wrong? \n​Well…. suppose Robert turns up not realizing quite why he has been invited. Suppose Robert and Jacqueline are secret lovers and consequently determined that Jacqueline will NOT leave for the weekend. Suppose the cook has to pretend to be the mistress and the mistress is unable to cook. Suppose everyone’s alibi gets confused with everyone else’s. An evening of hilarious confusion ensues as Bernard and Robert improvise at breakneck speed. \nTickets on sale from 25th January 2025 \n17th – 26th July 2025\nWritten by Marc Camoletti & Robin Harden\nDirected by Sara Bissett \n\n\n\nBOOK TICKETS
URL:https://bfame.co.uk/index.php/event/dont-dress-for-dinner/
LOCATION:The Grange Playhouse – Walsall\, Broadway North\, Walsall\, WS1 2QB\, United Kingdom
CATEGORIES:The Grange Players
ATTACH;FMTTYPE=image/png:https://bfame.co.uk/wp-content/uploads/2025/05/Screenshot-2025-05-06-at-14.11.33.png
END:VEVENT
END:VCALENDAR