BEGIN:VCALENDAR
VERSION:2.0
PRODID:-//bfame.co.uk - ECPv6.15.12.2//NONSGML v1.0//EN
CALSCALE:GREGORIAN
METHOD:PUBLISH
X-ORIGINAL-URL:https://bfame.co.uk
X-WR-CALDESC:Events for bfame.co.uk
REFRESH-INTERVAL;VALUE=DURATION:PT1H
X-Robots-Tag:noindex
X-PUBLISHED-TTL:PT1H
BEGIN:VTIMEZONE
TZID:Europe/London
BEGIN:DAYLIGHT
TZOFFSETFROM:+0000
TZOFFSETTO:+0100
TZNAME:BST
DTSTART:20240331T010000
END:DAYLIGHT
BEGIN:STANDARD
TZOFFSETFROM:+0100
TZOFFSETTO:+0000
TZNAME:GMT
DTSTART:20241027T010000
END:STANDARD
BEGIN:DAYLIGHT
TZOFFSETFROM:+0000
TZOFFSETTO:+0100
TZNAME:BST
DTSTART:20250330T010000
END:DAYLIGHT
BEGIN:STANDARD
TZOFFSETFROM:+0100
TZOFFSETTO:+0000
TZNAME:GMT
DTSTART:20251026T010000
END:STANDARD
BEGIN:DAYLIGHT
TZOFFSETFROM:+0000
TZOFFSETTO:+0100
TZNAME:BST
DTSTART:20260329T010000
END:DAYLIGHT
BEGIN:STANDARD
TZOFFSETFROM:+0100
TZOFFSETTO:+0000
TZNAME:GMT
DTSTART:20261025T010000
END:STANDARD
END:VTIMEZONE
BEGIN:VEVENT
DTSTART;TZID=Europe/London:20250911T193000
DTEND;TZID=Europe/London:20250920T220000
DTSTAMP:20260423T180240
CREATED:20250905T070541Z
LAST-MODIFIED:20250905T070748Z
UID:1806-1757619000-1758405600@bfame.co.uk
SUMMARY:Flatspin - The Grange Players
DESCRIPTION:A night of romance in her luxurious riverside apartment with the good-looking stranger from next door. How can Joanna possibly go wrong? Except the flat isn’t hers\, her name isn’t Joanna\, it’s Rosie (she’s an actress)\, and heaven knows what the good-looking stranger is really after. Instead of romance comes considerable danger … Rosie’s only way out is to play the role to the end.Tickets on sale from Saturday 2nd August 202511th – 20th September 2025Written by Alan AyckbornDirected by Lucy TalbotOrder your tickets Here:- https://www.ticketsource.co.uk/the-grange-players-ltd
URL:https://bfame.co.uk/index.php/event/flatspin/
LOCATION:The Grange Playhouse – Walsall\, Broadway North\, Walsall\, WS1 2QB\, United Kingdom
CATEGORIES:The Grange Players
ATTACH;FMTTYPE=image/jpeg:https://bfame.co.uk/wp-content/uploads/2025/09/flatspin_1.jpg
END:VEVENT
END:VCALENDAR