BEGIN:VCALENDAR
VERSION:2.0
PRODID:-//bfame.co.uk - ECPv6.15.12.2//NONSGML v1.0//EN
CALSCALE:GREGORIAN
METHOD:PUBLISH
X-ORIGINAL-URL:https://bfame.co.uk
X-WR-CALDESC:Events for bfame.co.uk
REFRESH-INTERVAL;VALUE=DURATION:PT1H
X-Robots-Tag:noindex
X-PUBLISHED-TTL:PT1H
BEGIN:VTIMEZONE
TZID:Europe/London
BEGIN:DAYLIGHT
TZOFFSETFROM:+0000
TZOFFSETTO:+0100
TZNAME:BST
DTSTART:20250330T010000
END:DAYLIGHT
BEGIN:STANDARD
TZOFFSETFROM:+0100
TZOFFSETTO:+0000
TZNAME:GMT
DTSTART:20251026T010000
END:STANDARD
BEGIN:DAYLIGHT
TZOFFSETFROM:+0000
TZOFFSETTO:+0100
TZNAME:BST
DTSTART:20260329T010000
END:DAYLIGHT
BEGIN:STANDARD
TZOFFSETFROM:+0100
TZOFFSETTO:+0000
TZNAME:GMT
DTSTART:20261025T010000
END:STANDARD
BEGIN:DAYLIGHT
TZOFFSETFROM:+0000
TZOFFSETTO:+0100
TZNAME:BST
DTSTART:20270328T010000
END:DAYLIGHT
BEGIN:STANDARD
TZOFFSETFROM:+0100
TZOFFSETTO:+0000
TZNAME:GMT
DTSTART:20271031T010000
END:STANDARD
END:VTIMEZONE
BEGIN:VEVENT
DTSTART;TZID=Europe/London:20260108T193000
DTEND;TZID=Europe/London:20260117T220000
DTSTAMP:20260423T122052
CREATED:20251210T090753Z
LAST-MODIFIED:20251210T090904Z
UID:1979-1767900600-1768687200@bfame.co.uk
SUMMARY:Jeeves & Wooster in Perfect Nonsense - The Grange Players.
DESCRIPTION:An inventive\, fast-paced comedy featuring P.G. Wodehouse’s iconic double act. Winner of the 2014 Olivier Award for Best New Comedy. When a country house weekend takes a turn for the worse\, Bertie Wooster is unwittingly called on to play matchmaker – reconciling the affections of his host’s drippy daughter Madeline Bassett with his newt-fancying acquaintance Gussie Fink-Nottle. If Bertie\, ably assisted by the ever-dependable Jeeves\, can’t pull off the wedding of the season he’ll be forced to abandon his cherished bachelor status and marry the ghastly girl himself! \nBased on P.G. Wodehouse’s delightfully bonkers stories\, especially The Code of the Woosters\, the Goodale Brothers’ dramatisation premiered at the Duke of York’s Theatre\, West End\, in November 2013\, prior to a UK tour. \nWritten by The Goodale Brothers\nOriginal Author P.G Wodehouse\nDirected by Sara Bissett \n\n\n\nBOOK TICKETS
URL:https://bfame.co.uk/index.php/event/jeeves-wooster-in-perfect-nonsense/
LOCATION:The Grange Playhouse – Walsall\, Broadway North\, Walsall\, WS1 2QB\, United Kingdom
CATEGORIES:The Grange Players
ATTACH;FMTTYPE=image/jpeg:https://bfame.co.uk/wp-content/uploads/2025/09/1000024559.jpg
END:VEVENT
END:VCALENDAR