BEGIN:VCALENDAR
VERSION:2.0
PRODID:-//bfame.co.uk - ECPv6.15.12.2//NONSGML v1.0//EN
CALSCALE:GREGORIAN
METHOD:PUBLISH
X-WR-CALNAME:bfame.co.uk
X-ORIGINAL-URL:https://bfame.co.uk
X-WR-CALDESC:Events for bfame.co.uk
REFRESH-INTERVAL;VALUE=DURATION:PT1H
X-Robots-Tag:noindex
X-PUBLISHED-TTL:PT1H
BEGIN:VTIMEZONE
TZID:Europe/London
BEGIN:DAYLIGHT
TZOFFSETFROM:+0000
TZOFFSETTO:+0100
TZNAME:BST
DTSTART:20240331T010000
END:DAYLIGHT
BEGIN:STANDARD
TZOFFSETFROM:+0100
TZOFFSETTO:+0000
TZNAME:GMT
DTSTART:20241027T010000
END:STANDARD
BEGIN:DAYLIGHT
TZOFFSETFROM:+0000
TZOFFSETTO:+0100
TZNAME:BST
DTSTART:20250330T010000
END:DAYLIGHT
BEGIN:STANDARD
TZOFFSETFROM:+0100
TZOFFSETTO:+0000
TZNAME:GMT
DTSTART:20251026T010000
END:STANDARD
BEGIN:DAYLIGHT
TZOFFSETFROM:+0000
TZOFFSETTO:+0100
TZNAME:BST
DTSTART:20260329T010000
END:DAYLIGHT
BEGIN:STANDARD
TZOFFSETFROM:+0100
TZOFFSETTO:+0000
TZNAME:GMT
DTSTART:20261025T010000
END:STANDARD
END:VTIMEZONE
BEGIN:VEVENT
DTSTART;TZID=Europe/London:20250604T193000
DTEND;TZID=Europe/London:20250607T220000
DTSTAMP:20260421T092817
CREATED:20250528T094926Z
LAST-MODIFIED:20250529T122545Z
UID:1486-1749065400-1749333600@bfame.co.uk
SUMMARY:Guys and Dolls - Trinity Players
DESCRIPTION:Guys and Dolls\nSutton Coldfield Town Hall. \n4th to 7th June 2025. \nTrinity Players are delighted to be celebrating their 50th year anniversary with the classic musical Guys and Dolls! Set in mythical New York City\, Guys and Dolls is hailed as the perfect romantic comedy. \nGambler\, Nathan Detroit\, tries to find the cash to set up the biggest dice game in town while the authorities breathe down his neck; meanwhile\, his long suffering girlfriend and nightclub performer\, Adelaide\, expresses her impatience that they’ve been engaged for fourteen years. Nathan turns to fellow gambler\, Sky Masterson\, for the dosh and Sky ends up chasing the straight-laced missionary\, Sarah Brown\, as a result. Guys and Dolls takes us from the heart of Times Square to the cafes of Havana\, Cuba\, and even into the sewers of New York City\, but eventually everyone ends up right where they belong. \nBased on a Story and Characters of Damon Runyon.\nMusic and Lyrics by Frank Loesser\nBook by Jo Swerling and Abe Burrows \nTickets available via the Box Office – Click Here. \nor to avoid booking fees 07843 928830 \n(Curtain up is set for 7:30pm nightly\, with an exception for the Saturday matinee which has a curtain up time of 2:30pm)
URL:https://bfame.co.uk/index.php/event/guys-and-dolls/
LOCATION:Trinity Players\, Sutton Coldfield Town Hall
CATEGORIES:Trinity Players
ATTACH;FMTTYPE=image/png:https://bfame.co.uk/wp-content/uploads/2025/05/GuysAndDolls_Showbanner.png
END:VEVENT
END:VCALENDAR