BEGIN:VCALENDAR
VERSION:2.0
PRODID:-//bfame.co.uk - ECPv6.15.12.2//NONSGML v1.0//EN
CALSCALE:GREGORIAN
METHOD:PUBLISH
X-ORIGINAL-URL:https://bfame.co.uk
X-WR-CALDESC:Events for bfame.co.uk
REFRESH-INTERVAL;VALUE=DURATION:PT1H
X-Robots-Tag:noindex
X-PUBLISHED-TTL:PT1H
BEGIN:VTIMEZONE
TZID:Europe/London
BEGIN:DAYLIGHT
TZOFFSETFROM:+0000
TZOFFSETTO:+0100
TZNAME:BST
DTSTART:20250330T010000
END:DAYLIGHT
BEGIN:STANDARD
TZOFFSETFROM:+0100
TZOFFSETTO:+0000
TZNAME:GMT
DTSTART:20251026T010000
END:STANDARD
BEGIN:DAYLIGHT
TZOFFSETFROM:+0000
TZOFFSETTO:+0100
TZNAME:BST
DTSTART:20260329T010000
END:DAYLIGHT
BEGIN:STANDARD
TZOFFSETFROM:+0100
TZOFFSETTO:+0000
TZNAME:GMT
DTSTART:20261025T010000
END:STANDARD
BEGIN:DAYLIGHT
TZOFFSETFROM:+0000
TZOFFSETTO:+0100
TZNAME:BST
DTSTART:20270328T010000
END:DAYLIGHT
BEGIN:STANDARD
TZOFFSETFROM:+0100
TZOFFSETTO:+0000
TZNAME:GMT
DTSTART:20271031T010000
END:STANDARD
END:VTIMEZONE
BEGIN:VEVENT
DTSTART;TZID=Europe/London:20260505T191500
DTEND;TZID=Europe/London:20260509T220000
DTSTAMP:20260421T110519
CREATED:20260202T094611Z
LAST-MODIFIED:20260202T094809Z
UID:2079-1778008500-1778364000@bfame.co.uk
SUMMARY:Beauty and the Beast - Tinkers Farm Operatic Society
DESCRIPTION:Stourbridge Town Hall in May 2026. This beloved musical\, filled with unforgettable characters and iconic songs\, promises to be a magical experience for theatre-goers of all ages. \nBased on the Academy Award-winning animated film\, Beauty and the Beast tells the timeless tale of Belle\, a bright and independent young woman\, and the Beast\, a prince cursed until he learns to love and be loved in return. With show-stopping numbers including Be Our Guest\, Gaston\, and Beauty and the Beast\, this full-scale stage musical combines dazzling costumes\, stunning choreography\, and heart-warming storytelling. \nDirector Emma Harley and Musical Director Richard Ganner lead a talented local cast and creative team\, bringing this spectacular production to life with Tinkers Farm Operatic Society’s signature passion and professionalism. This production reflects Tinkers Farm’s ongoing commitment to presenting high-quality\, community-rooted theatre that inspires\, entertains\, and brings people together. \nFamilies\, theatre-lovers\, and Disney fans won’t want to miss this spectacular musical event. Early booking is strongly recommended\, as this beloved family favourite is expected to be in high demand. \nFor updates\, behind-the-scenes previews\, and ticket announcements\, follow Tinkers Farm on all their social media platforms\, or visit www.tinkersfarmopera.com \nTicket Via – https://www.seaty.co.uk/tfobeauty \n  \nPlease note – Saturday Matinee available starting at 2:00pm – All other performances will start at 7:15pm – please see the ticket information above for more details. \n  \n 
URL:https://bfame.co.uk/index.php/event/beauty-and-the-beast-tinkers-farm-operatic-society/
LOCATION:Stourbridge Town Hall\, Stourbridge\, DY8 1YE
CATEGORIES:Tinkers Farm Operatic Society
ATTACH;FMTTYPE=image/png:https://bfame.co.uk/wp-content/uploads/2026/02/beauty-and-the-beast-show-page.png
END:VEVENT
BEGIN:VEVENT
DTSTART;TZID=Europe/London:20260509T193000
DTEND;TZID=Europe/London:20260516T220000
DTSTAMP:20260421T110519
CREATED:20260416T135355Z
LAST-MODIFIED:20260416T135355Z
UID:2753-1778355000-1778968800@bfame.co.uk
SUMMARY:Curtain Up! Oldbury Rep Players
DESCRIPTION:By Peter Quilter \n  \nBASED ON THE author’s earlier Respecting Your Piers\, CURTAIN UP! is the hilarious story of five women who inherit equal shares in a dilapidated theatre and plan to bring it back to life again. They try various fundraising schemes\, but their most ambitious is to hold a concert featuring local talent and a world-famous star who agrees to appear for no fee! However\, their plans go awry and it’s a race to keep their audience from guessing the truth of the matter.\nA fast-paced and very funny comedy. \nClick Here for Tickets :-  https://oldburyrep.savoysystems.co.uk/OldburyRep.dll/TSelectItems.waSelectItemsPrompt.TcsWebMenuItem_1025.TcsWebTab_1026.TcsProgramme_489248 \n  \n 
URL:https://bfame.co.uk/index.php/event/curtain-up-oldbury-rep-players/
LOCATION:Oldbury Repertory\, Spring Walk\,\, Langley\, B69 4SP\, United Kingdom
CATEGORIES:Oldbury Repertory
ATTACH;FMTTYPE=image/jpeg:https://bfame.co.uk/wp-content/uploads/2026/04/orp2025-web_vert_51.jpg
END:VEVENT
BEGIN:VEVENT
DTSTART;TZID=Europe/London:20260510T080000
DTEND;TZID=Europe/London:20260510T170000
DTSTAMP:20260421T110519
CREATED:20250923T132136Z
LAST-MODIFIED:20250923T132136Z
UID:1858-1778400000-1778432400@bfame.co.uk
SUMMARY:AETF Semi Final
DESCRIPTION:
URL:https://bfame.co.uk/index.php/event/aetf-semi-final/
END:VEVENT
BEGIN:VEVENT
DTSTART;TZID=Europe/London:20260513T193000
DTEND;TZID=Europe/London:20260516T220000
DTSTAMP:20260421T110519
CREATED:20260309T093950Z
LAST-MODIFIED:20260309T093950Z
UID:2354-1778700600-1778968800@bfame.co.uk
SUMMARY:Home\, I'm Darling - New Kinver Players
DESCRIPTION:By Laura Wade\nDirected by Seg Smith\n\n\n\n\nMAY 13th – 16th\, 2026 \n\n\n\n“Home\, I’m Darling” is a dark comedy that explores the life of Judy\, who immerses herself in a 1950s domestic lifestyle\, only to confront the complexities and challenges of modern relationships and identity.\nThe play canters around Judy and Johnny\, a couple who have chosen to live a life reminiscent of the 1950s\, complete with vintage clothing\, décor\, and domestic routines. \nJudy has taken on the role of a traditional housewife\, while Johnny works as an estate agent. Their seemingly idyllic life begins to unravel as they face financial difficulties\, including the threat of losing their home due to mounting debts. \n\n\nHome\, I’m Darling is Laura Wade’s new dark comedy about sex\, cake and the quest to be the perfect \n1950s housewife. \n\nBUY TICKETS
URL:https://bfame.co.uk/index.php/event/home-im-darling-new-kinver-players/
LOCATION:Edward Marsh Centre\, Legion Drive\, Staffordshire\, DY7 6ET\, United Kingdom
CATEGORIES:New Kinver Players
ATTACH;FMTTYPE=image/png:https://bfame.co.uk/wp-content/uploads/2026/03/Screenshot-2026-03-09-at-09.31.30.png
END:VEVENT
BEGIN:VEVENT
DTSTART;TZID=Europe/London:20260513T193000
DTEND;TZID=Europe/London:20260522T220000
DTSTAMP:20260421T110519
CREATED:20260202T123805Z
LAST-MODIFIED:20260202T123952Z
UID:2090-1778700600-1779487200@bfame.co.uk
SUMMARY:The Odd Couple (female version) - The Grange Players
DESCRIPTION:Written by Neil Simon \nDirected by Dawn Vigurs \n  \nNeil Simon’s revision of his hugely successful play\, The Odd Couple\, sees the lead characters transformed into Olive Madison and Florence Unger. Olive and their group of girlfriends are enjoying their weekly Trivial Pursuit night in Olive’s messy and ill-equipped apartment. As the game continues\, Florence arrives\, fresh from being dumped by her husband. Fearful that the neurotic Florence might attempt suicide\, Olive invites her to move in as her roommate. However\, Olive and Florence have VERY different personalities. Where Olive is messy\, untidy\, and unconcerned about the state of her apartment\, Florence is obsessively clean\, tidy\, and obsessed with hygiene. Olive’s easy-going outlook on life soon clashes with Florence’s highly-strung neurotic tendencies\, testing their friendship to the limit. When Olive organises a double-date with the Costazuela brothers\, their differences come to a head and sparks fly. \nTickets on sale from Saturday 4th April 2026 \n13th – 22nd May 2026 \nTickets Via :-  https://www.ticketsource.co.uk/the-grange-players-ltd \n 
URL:https://bfame.co.uk/index.php/event/the-odd-couple-female-version-the-grange-players/
LOCATION:The Grange Playhouse – Walsall\, Broadway North\, Walsall\, WS1 2QB\, United Kingdom
CATEGORIES:The Grange Players
ATTACH;FMTTYPE=image/jpeg:https://bfame.co.uk/wp-content/uploads/2026/01/Odd-Couple.jpg
END:VEVENT
BEGIN:VEVENT
DTSTART;TZID=Europe/London:20260602T193000
DTEND;TZID=Europe/London:20260606T220000
DTSTAMP:20260421T110519
CREATED:20260416T141329Z
LAST-MODIFIED:20260416T141329Z
UID:2760-1780428600-1780783200@bfame.co.uk
SUMMARY:Shrek The Musical - BMTC
DESCRIPTION:2-6th June \nBournville Musical Theatre Company (BMTC) \nBased on the Oscar-winning DreamWorks film\, this “ogre-the-top” musical adventure follows Shrek\, a grumpy but big-hearted ogre whose peaceful isolation in a swamp is shattered.. \n\nSpecial Performance: The show on Thursday 4th June will be a BSL interpreted performance.\nTimes: Most evening performances start at 19:30\, with a Saturday matinee at 13:00\n\nClick Here for Tickets :-  https://www.crescent-theatre.co.uk/event-book-3/393430ASCVTPRHKMHLVKNHNVQGGCHKRLV/shrek-the-musical/
URL:https://bfame.co.uk/index.php/event/shrek-the-musical-bmtc/
LOCATION:Crescent Theatre\, Birmingham\, B16 8AE
CATEGORIES:BMTC
ATTACH;FMTTYPE=image/jpeg:https://bfame.co.uk/wp-content/uploads/2026/04/afd45371-c15c-4318-90d9-a3ebd9eb1014.jpg
END:VEVENT
BEGIN:VEVENT
DTSTART;TZID=Europe/London:20260609T193000
DTEND;TZID=Europe/London:20260613T220000
DTSTAMP:20260421T110519
CREATED:20260205T152443Z
LAST-MODIFIED:20260205T152443Z
UID:2106-1781033400-1781388000@bfame.co.uk
SUMMARY:We Will Rock You - Bmos
DESCRIPTION:Music and lyrics by QUEEN\nStory and Script by BEN ELTON\n“WE WILL ROCK YOU” is presented through special arrangement with and all authorised performance materials are supplied by Theatrical Rights Worldwide (TRW).\nwww.theatricalrights.co.uk \n\n\n\n\n\n\n\n\n\n\n\n\nBMOS Musical Theatre Company proudly presents the ultimate rock musical experience – a night of unforgettable music\, rebellion\, and pure energy in We Will Rock You! \nWe Will Rock You is a bold\, high-energy tribute to the legendary music of Queen\, featuring over 20 of their biggest hits\, including “Bohemian Rhapsody”\, “We Are the Champions”\, “Somebody to Love”\, “Don’t Stop Me Now”\, and the iconic “We Will Rock You”. \nSet in a dystopian future\, where free thought is forbidden and music is controlled by algorithms\, two young rebels\, Galileo and Scaramouche\, rise up with a group of Bohemians. Together they vow to to bring back the spirit of rock ‘n’ roll with a fight that becomes a rallying cry for uniqueness\, freedom\, and the unstoppable power of music. \nWe Will Rock You is more than just a musical – it’s a worldwide phenomenon. With productions in 28 countries\, it has rocked the lives of over 16 million audience members across the globe. This explosive spectacle promises to have Birmingham audiences stomping their feet and raising their voices in this unforgettable smash-hit Queen musical. \n\n\n\n\n\n\n\nTuesday 9th – Saturday 13th June 2026 at The Alexandra\, Birmingham \n\n\n\n\n\n\n\n\n\n\n\n\n  \n\n\n\n\n\n\n\n\n\n\n\n\n\n\n\n\n\nTICKETS ON SALE NOW
URL:https://bfame.co.uk/index.php/event/we-will-rock-you-bmos/
LOCATION:BMOS\, Alexandra Theatre\, Birmingham\, B5 4DS
CATEGORIES:BMOS
ATTACH;FMTTYPE=image/webp:https://bfame.co.uk/wp-content/uploads/2026/02/wewillrockyou_1920x1080.webp
END:VEVENT
BEGIN:VEVENT
DTSTART;TZID=Europe/London:20260609T193000
DTEND;TZID=Europe/London:20260613T220000
DTSTAMP:20260421T110519
CREATED:20260416T142007Z
LAST-MODIFIED:20260416T142007Z
UID:2763-1781033400-1781388000@bfame.co.uk
SUMMARY:9 to 5 - QMTS
DESCRIPTION:The Core theatre \n9th-13th June \n  \n9 to 5: The Musical is a laugh-out-loud comedy based on the iconic 1980 film\, with an original score by country legend Dolly Parton and book by Patricia Resnick. Set in a bustling 1970s office\, the story follows three smart\, determined women\, Violet\, Judy\, and Doralee\, who are fed up with their sexist\, egotistical boss. When a series of outrageous events leads them to take matters into their own hands\, chaos and hilarity ensue. \nPacked with vibrant choreography and big-hearted humour\, the show features a catchy soundtrack including the unforgettable title number “9 to 5\,” the empowering anthem “Shine Like the Sun\,” and the heartfelt ballad “Get Out and Stay Out.” \nA celebration of friendship\, female empowerment\, and finding your voice\, 9 to 5: The Musical is both timely and timeless. It’s a feel-good ride full of sass\, charm\, and Dolly’s signature sparkle. The show is presented by Queensbridge Musical Theatre Society\, an award winning amateur group based in Kings Heath\, producing shows since 1948. \n  \nClick Here for Tickets:-  https://www.thecoretheatresolihull.co.uk/whats-on/all-shows/9-to-5-the-musical/27806 \n  \n 
URL:https://bfame.co.uk/index.php/event/9-to-5-qmts/
LOCATION:The Core Theatre\, Touchwood\, Solihull\, Select a State:\, B91 3RG\, United Kingdom
CATEGORIES:QMTS
ATTACH;FMTTYPE=image/png:https://bfame.co.uk/wp-content/uploads/2026/04/9-to-5-825-x-440-px.png
END:VEVENT
BEGIN:VEVENT
DTSTART;TZID=Europe/London:20260609T193000
DTEND;TZID=Europe/London:20260620T220000
DTSTAMP:20260421T110519
CREATED:20260206T082633Z
LAST-MODIFIED:20260206T082825Z
UID:2121-1781033400-1781992800@bfame.co.uk
SUMMARY:The Curious Incident of the Dog in the Night-Time  - Highbury Theatre
DESCRIPTION:Directed by Maura Judges \nWho killed Wellington?\n  \n15 year old Christopher has an extraordinary mind. He loves maths\, but knows very little about human beings. After finding a neighbour’s dog murdered\, he sets out on a thrilling journey to uncover the truth. \n\nPlease note: Drama with strong language\, abuse of people and animals and mature adult themes \nSuitability: 14+ \n\n\nHighbury Theatre Centre\, Sutton Coldfield\, B73 5HD\n\n\n\n\n Tue 9th June 2026 – Sat 20th June 2026\n\n\nTickets Via – https://www.ticketsource.co.uk/whats-on/sutton-coldfield/highbury-theatre-centre/the-curious-incident-of-the-dog-in-the-night-time/e-ykrxkz
URL:https://bfame.co.uk/index.php/event/the-curious-incident-of-the-dog-in-the-night-time-2/
LOCATION:Highbury Theatre\, Sheffield Rd\, Wylde Green\, Sutton Coldfield B73 5HD\, Birmingham\, B73 5HD\, United Kingdom
CATEGORIES:Highbury Theatre
ATTACH;FMTTYPE=image/png:https://bfame.co.uk/wp-content/uploads/2026/02/9-Curious-Incident.png
END:VEVENT
BEGIN:VEVENT
DTSTART;TZID=Europe/London:20260618T193000
DTEND;TZID=Europe/London:20260620T213000
DTSTAMP:20260421T110519
CREATED:20260305T082837Z
LAST-MODIFIED:20260305T082837Z
UID:2342-1781811000-1781991000@bfame.co.uk
SUMMARY:Our Day Out - Aldridge Youth Theatre
DESCRIPTION:by Willy Russell\n\n\n\n Thu 18th June 2026 – Sat 20th June 2026\n\n\n\n\n\n\n\n\n\nPresented by our Intermediate members\, Our Day Out by Willy Russell is a witty and moving comedy about a group of schoolchildren on a long-awaited day trip. As they escape the classroom\, laughter\, rebellion\, and unexpected moments of hope reveal sharp truths about education\, opportunity\, and growing up. Heartfelt\, funny\, and still strikingly relevant.\n\n\n\n\nOrder Tickets Here – https://www.ticketsource.co.uk/whats-on/walsall/aldridge-youth-theatre/our-day-out/e-loppko
URL:https://bfame.co.uk/index.php/event/our-day-out-aldridge-youth-theatre/
LOCATION:Aldridge Youth Theatre\, Noddy Park Rd\, walsall\, WS9 8NQ
CATEGORIES:Aldridge Youth Theatre
ATTACH;FMTTYPE=image/webp:https://bfame.co.uk/wp-content/uploads/2026/03/35601-17701194004358-m.webp
END:VEVENT
BEGIN:VEVENT
DTSTART;TZID=Europe/London:20260618T193000
DTEND;TZID=Europe/London:20260627T220000
DTSTAMP:20260421T110519
CREATED:20250728T083721Z
LAST-MODIFIED:20250728T083846Z
UID:1783-1781811000-1782597600@bfame.co.uk
SUMMARY:Quiz – The Fellowship Players
DESCRIPTION:18th – 27th June 2026 Directed by Rebecca Holmes-Mears \nFrom the writer of The Vote and Channel 4’s 2023 mini series Brian and Maggie comes Quiz which centres on the true story of Charles Ingram\, a British Army major\, and his wife Diana\, who were accused of cheating on “Who Wants to Be a Millionaire?” by using a coded system of coughs to signal answers\, leading to a high-profile court trial. \nQuiz was commissioned by William Village. First produced by Chichester Festival Theatre in 2017 by arrangement with William Village and subsequently produced in the West End of London at the Noël Coward Theatre by William Village and Playful Productions and Chichester Festival Theatre. \nQuiz is a fictional imagination based on real events which took place in 2001 following an episode of Who Wants to Be a Millionaire? It is not in any way connected with the makers of the programme or any of the individuals portrayed. The television programme “Who Wants To Be A Millionaire?” is produced by 2waytraffic. \nContains graphic details of harassment and pet loss. \nTICKETS: £12 \nBOX OFFICE: 07721 334 203
URL:https://bfame.co.uk/index.php/event/quiz/
LOCATION:The Grange Playhouse – Walsall\, Broadway North\, Walsall\, WS1 2QB\, United Kingdom
CATEGORIES:Fellowship Players
ATTACH;FMTTYPE=image/jpeg:https://bfame.co.uk/wp-content/uploads/2025/07/thumbnail_quiz-artwork-scaled.jpg
END:VEVENT
BEGIN:VEVENT
DTSTART;TZID=Europe/London:20260625T190000
DTEND;TZID=Europe/London:20260704T220000
DTSTAMP:20260421T110519
CREATED:20260206T081832Z
LAST-MODIFIED:20260206T082925Z
UID:2118-1782414000-1783202400@bfame.co.uk
SUMMARY:Rent - Sutton Arts Theatre
DESCRIPTION:Written by Jonathan Larson \nDirected by Dexter Whitehead & Emily Armstrong \n\nJonathan Larson’s smash-hit rock musical\, Rent follows a group of young artists living in Manhattan’s East Village as they navigate love\, loss\, and the devastating impact of HIV/AIDS. Rent beautifully captures the ultimate sacrifice of a life of stability for the sake of art. It’s an inspiring story that reminds us of the importance of following our passions and taking risks to pursue our dreams. Featuring iconic numbers including\, ‘Seasons of Love’\, ‘La Vie Bohème’\, ‘Take Me or Leave Me’\, ‘One Song Glory’\, and title song ‘Rent’. Loosely based on Puccini’s opera\, La Bohème\, the multi-award-winning musical\, including 4 Tony’s and the Pulitzer Prize for Drama is a must-see for anyone who appreciates great music and powerful storytelling. \n\n\nAge 14+\n\n\n\n\n\n\n\n\nThursday 25 Jun 2026\n\n19:30 Book Now\n\n\nFriday 26 Jun 2026\n\n19:30 Book Now\n\n\nSaturday 27 Jun 2026\n\n19:30 Book Now\n\n\nWednesday 1 Jul 2026\n\n19:30 Book Now\n\n\nThursday 2 Jul 2026\n\n19:30 Book Now\n\n\nFriday 3 Jul 2026\n\n19:30 Book Now\n\n\nSaturday 4 Jul 2026\n\n19:30 Book Now
URL:https://bfame.co.uk/index.php/event/rent/
LOCATION:Sutton Arts Theatre\, Birmingham\, B72 1QU
CATEGORIES:Sutton Arts Theatre
ATTACH;FMTTYPE=image/jpeg:https://bfame.co.uk/wp-content/uploads/2026/02/rent.jpg
END:VEVENT
BEGIN:VEVENT
DTSTART;TZID=Europe/London:20260630T080000
DTEND;TZID=Europe/London:20260704T170000
DTSTAMP:20260421T110519
CREATED:20260202T095145Z
LAST-MODIFIED:20260202T095145Z
UID:2082-1782806400-1783184400@bfame.co.uk
SUMMARY:SIX: Teen Edition - Script Youth
DESCRIPTION:Divorced\, beheaded\, died\, divorced\, beheaded\, survived! \nImmerse yourself in the exhilarating world of SIX: Teen Edition\, a thrilling adaptation of Toby Marlow and Lucy Moss’ global sensation that brings the iconic story of Henry VIII’s six wives to life like never before! \nFrom Tudor Queens to Pop Icons\, the SIX wives of Henry VIII take the mic to remix five hundred years of historical heartbreak into a Euphoric Celebration of 21st-century girl power! This new original musical is the global sensation that everyone is losing their head over. \nFeaturing all the beloved songs from the original production. \nJoin Script Youth’s Queens for a sensational journey through history and music\, where the past meets the present in a jubilant celebration of empowerment\, sisterhood and resilience. \n\nSIX: TEEN EDITION is a full-length adaptation of Toby Marlow and Lucy Moss’ international phenomenon SIX\, modified for performance by teen actors for family audiences. Presented by special arrangement with Concord Theatricals. \nClick the date for ticket information. \nTue 30 Jun 2026\, 7:30PM\nThu 2 Jul 2026\, 7:30PM\nFri 3 Jul 2026\, 7:30PM\nSat 4 Jul 2026\, 2:30PM\nSat 4 Jul 2026\, 7:30PM
URL:https://bfame.co.uk/index.php/event/six-teen-edition-script-youth/
LOCATION:Highbury Theatre\, Sheffield Rd\, Wylde Green\, Sutton Coldfield B73 5HD\, Birmingham\, B73 5HD\, United Kingdom
CATEGORIES:Script Youth
ATTACH;FMTTYPE=image/png:https://bfame.co.uk/wp-content/uploads/2026/02/SIX-TEEN-EDITION.png
END:VEVENT
BEGIN:VEVENT
DTSTART;TZID=Europe/London:20260912T190000
DTEND;TZID=Europe/London:20260913T220000
DTSTAMP:20260421T110519
CREATED:20260202T095855Z
LAST-MODIFIED:20260202T100028Z
UID:2085-1789239600-1789336800@bfame.co.uk
SUMMARY:Charlie and the Chocolate Factory - Script Youth
DESCRIPTION:The world-famous Willy Wonka is opening the gates to his mysterious factory…but only to a lucky few. Young Charlie Bucket and four other golden ticket winners will embark on a life-changing journey through Wonka’s world of pure imagination including chocolate waterfalls\, nutty squirrels and the great glass elevator\, all to be revealed by Wonka’s army of curious Oompa-Loompas. \nBased on the famous novel by Roald Dahl\, Charlie and the Chocolate Factory features an original score composed by Marc Shaiman\, with lyrics by Shaiman and Scott Wittman (Hairspray) and a book by David Greig. This show has a shortened running time. \n  \nFind out more here :- https://script-ymtc.org.uk/2026-shows.html
URL:https://bfame.co.uk/index.php/event/charlie-and-the-chocolate-factory-script-youth/
LOCATION:The Old Rep\, Station St\,\, Birmingham\, B5 4DY
CATEGORIES:Script Youth
ATTACH;FMTTYPE=image/jpeg:https://bfame.co.uk/wp-content/uploads/2026/02/Charlie-for-website.jpg
END:VEVENT
BEGIN:VEVENT
DTSTART;TZID=Europe/London:20261112T080000
DTEND;TZID=Europe/London:20261114T170000
DTSTAMP:20260421T110519
CREATED:20260205T153842Z
LAST-MODIFIED:20260205T153842Z
UID:2109-1794470400-1794675600@bfame.co.uk
SUMMARY:Hairspray - Wbos Youth Theatre
DESCRIPTION:  \n\n\n\n\n\n\n\n\nHairspray is a joyful\, high-energy musical set in 1960s Baltimore\, following Tracy Turnblad\, a big-hearted teenager with big dreams. When she lands a spot on a popular TV dance show\, Tracy uses her sudden fame to challenge social norms\, fight for racial integration\, and prove that everyone deserves a place in the spotlight — all set to an infectious score full of heart\, humour\, and unstoppable dance numbers. \n\n\n\n\n\n\n\n\n\n\n\n\n\n\n\n\n\n\n\nDormston Mill Youth Theatre\, Sedgley\, DY3 1SN\n\n\n\n\n12th – 14th November\n\n\n\n\n\n\n\n\n\n\n\n\n\n\n\n\n\n\nTickets Via – https://www.seaty.co.uk/wbosy-hairspray
URL:https://bfame.co.uk/index.php/event/hairspray-wbos-youth-theatre/
LOCATION:Dormston Mill Theatre\, Sedgley\, DY3 1SL
CATEGORIES:WBOS Youth
ATTACH;FMTTYPE=image/png:https://bfame.co.uk/wp-content/uploads/2026/02/image.png
END:VEVENT
END:VCALENDAR